BEGIN:VCALENDAR
VERSION:2.0
PRODID:-//ChamberMaster//Event Calendar 2.0//EN
METHOD:PUBLISH
X-PUBLISHED-TTL:P3D
REFRESH-INTERVAL:P3D
CALSCALE:GREGORIAN
BEGIN:VEVENT
DTSTART:20240418T140000Z
DTEND:20240418T160000Z
X-MICROSOFT-CDO-ALLDAYEVENT:FALSE
SUMMARY:Mini Succulent Pot Painting
DESCRIPTION:In this class\, each person will receive their own ceramic pot\, ready to be transformed into a personalized masterpiece. Young artists can unleash their creativity\, painting\, and decorating their pots to their heart's content.\n\nBut the fun doesn't stop there! As part of the experience\, succulents are included in the price\, allowing kids to plant their newly decorated pots with vibrant greenery. This hands-on activity not only nurtures their artistic skills but also instills a sense of responsibility and appreciation for nature.\n\nTickets for this class must be purchased in advance!
X-ALT-DESC;FMTTYPE=text/html:<p>In this class\, each person will receive their own ceramic pot\, ready to be transformed into a personalized masterpiece. Young artists can unleash their creativity\, painting\, and decorating their pots to their heart&#39\;s content.</p>\n\n<p>But the fun doesn&#39\;t stop there! As part of the experience\, succulents are included in the price\, allowing kids to plant their newly decorated pots with vibrant greenery. This hands-on activity not only nurtures their artistic skills but also instills a sense of responsibility and appreciation for nature.</p>\n\n<p>Tickets for this class must be purchased in advance!</p>\n
LOCATION:The Creative Soul\, 2 Christensen Lane\, Kennebunk\, ME
UID:e.1923.24580
SEQUENCE:3
DTSTAMP:20260421T163951Z
URL:https://chamber.gokennebunks.com/events/details/mini-succulent-pot-painting-24580
END:VEVENT

END:VCALENDAR
