BEGIN:VCALENDAR
VERSION:2.0
PRODID:-//ChamberMaster//Event Calendar 2.0//EN
METHOD:PUBLISH
X-PUBLISHED-TTL:P3D
REFRESH-INTERVAL:P3D
CALSCALE:GREGORIAN
BEGIN:VEVENT
DTSTART:20180817T230000Z
DTEND:20180818T010000Z
X-MICROSOFT-CDO-ALLDAYEVENT:FALSE
SUMMARY:Mike Super - Magician Exraordinaire
DESCRIPTION:As the winner of NBC's hit TV show 'Phenomenon'\, Mike is the only magician in history to win a LIVE magic competition on primetime US network television and voted America's Favorite Mystifier! Through spectacular illusions and his own inimitable down-to-earth style and personality\, Mike Super has pioneered a new form of magic that transcends the "trick". With captivating performances for more than 6 weeks airing on 'America's Got Talent' as a top finalist and Season Premier Episode of Penn & Teller's 'FOOL US'   Mike has emerged as magic's newest celebrity\, with a legion of fans numbering in the millions.
X-ALT-DESC;FMTTYPE=text/html:As the winner of NBC&rsquo\;s hit TV show &lsquo\;Phenomenon&rsquo\;\, Mike is the only magician in history to win a LIVE magic competition on primetime US network television and voted America&rsquo\;s Favorite Mystifier! Through spectacular illusions and his own inimitable down-to-earth style and personality\, Mike Super has pioneered a new form of magic that transcends the &ldquo\;trick&rdquo\;. With captivating performances for more than 6 weeks airing on &lsquo\;America&rsquo\;s Got Talent&rsquo\; as a top finalist and Season Premier Episode of Penn &amp\; Teller&rsquo\;s &lsquo\;FOOL US&rsquo\; &ndash\; Mike has emerged as magic&rsquo\;s newest celebrity\, with a legion of fans numbering in the millions.
LOCATION:Vinegar Hill Music Theatre 53 Old Post Rd. Arundel\, ME 04046
UID:e.1923.9779
SEQUENCE:3
DTSTAMP:20260425T103928Z
URL:https://chamber.gokennebunks.com/events/details/mike-super-magician-exraordinaire-9779
END:VEVENT

END:VCALENDAR
