BEGIN:VCALENDAR
VERSION:2.0
PRODID:-//ChamberMaster//Event Calendar 2.0//EN
METHOD:PUBLISH
X-PUBLISHED-TTL:P3D
REFRESH-INTERVAL:P3D
CALSCALE:GREGORIAN
BEGIN:VEVENT
DTSTART:20190817T230000Z
DTEND:20190818T010000Z
X-MICROSOFT-CDO-ALLDAYEVENT:FALSE
SUMMARY:Mike Super 2.OH!!
DESCRIPTION:They say lightening doesn't strike twice in the same place but Mike Super's BRAND NEW Magic Show begs to differ! Always leave 'em wanting more! And that's exactly what Magician Mike Super did with his last visit to our series! People raved and demanded we bring him back so they could bring all their friends and family! As a result\, much like a SUPER-charged software upgrade\, Mike Super returns to our stage with a BRAND NEW show with all new magic! Instead of 2.0 he calls it 2.OH!  SHOW!  because of the newly created\, never before seen magical\, jaw dropping moments taking his uniquely branded evening of mystery to a whole new level! If you witnessed Mike's last smash hit show at our theatre\, get ready to be wowed all over again in a brand new way!!!! If you've never seen Mike's show\, bring out the whole family to see what the buzz is about! In this brand new show\, Mike appears from an actual projection image! He also plans to give the audience the winning Powerball numbers! (We aren't kidding!) He also re-energizes one of the world's most popular mysteries\, the Rubic's Cube\, and not only solves it in record time with magic\, but involves the audience in a way never before experienced and this is only in the first 10 minutes of his all new show The Mike Super 2.OH! SHOW!   Bring your family and friends BACK to share in an ALL NEW evening of the impossible!
X-ALT-DESC;FMTTYPE=text/html:They say lightening doesn&rsquo\;t strike twice in the same place&hellip\;but Mike Super&rsquo\;s BRAND NEW Magic Show begs to differ! Always leave &lsquo\;em wanting more! And that&rsquo\;s exactly what Magician Mike Super did with his last visit to our series! People raved and demanded we bring him back so they could bring all their friends and family! As a result\, much like a SUPER-charged software upgrade\, Mike Super returns to our stage with a BRAND NEW show with all new magic! Instead of 2.0 he calls it 2.OH!&trade\; SHOW!&trade\; because of the newly created\, never before seen magical\, jaw dropping moments taking his uniquely branded evening of mystery to a whole new level! If you witnessed Mike&rsquo\;s last smash hit show at our theatre\, get ready to be wowed all over again in a brand new way!!!! If you&rsquo\;ve never seen Mike&rsquo\;s show\, bring out the whole family to see what the buzz is about! In this brand new show\, Mike appears from an actual projection image! He also plans to give the audience the winning Powerball numbers! (We aren&rsquo\;t kidding!) He also re-energizes one of the world&rsquo\;s most popular mysteries\, the Rubic&rsquo\;s Cube\, and not only solves it in record time with magic\, but involves the audience in a way never before experienced&hellip\;and this is only in the first 10 minutes of his all new show&hellip\;The Mike Super 2.OH! SHOW! &trade\; Bring your family and friends BACK to share in an ALL NEW evening of the impossible!
LOCATION:Vinegar Hill Music Theatre 53 Old Post Rd. Arundel\, ME 04046
UID:e.1923.12849
SEQUENCE:3
DTSTAMP:20260424T165548Z
URL:https://chamber.gokennebunks.com/events/details/mike-super-2-oh-08-17-2019-12849
END:VEVENT

END:VCALENDAR
