BEGIN:VCALENDAR
VERSION:2.0
PRODID:-//ChamberMaster//Event Calendar 2.0//EN
METHOD:PUBLISH
X-PUBLISHED-TTL:P3D
REFRESH-INTERVAL:P3D
CALSCALE:GREGORIAN
BEGIN:VEVENT
DTSTART:20240620T230000Z
DTEND:20240621T030000Z
X-MICROSOFT-CDO-ALLDAYEVENT:FALSE
SUMMARY:MIDNIGHT BREAKFAST + THE CROWDED TABLE
DESCRIPTION:Vinegar Hill Music Theatre presents Midnight Breakfast + The Crowded Table! Join us for food and drinks before the show in our outdoor garden starting at 6 pm!
X-ALT-DESC;FMTTYPE=text/html:Vinegar Hill Music Theatre presents Midnight Breakfast + The Crowded Table! Join us for food and drinks before the show in our outdoor garden starting at 6 pm!
LOCATION:Vinegar Hill Music Theatre
UID:e.1923.25387
SEQUENCE:3
DTSTAMP:20260421T140121Z
URL:https://chamber.gokennebunks.com/events/details/midnight-breakfast-the-crowded-table-06-20-2024-25387
END:VEVENT

END:VCALENDAR
