BEGIN:VCALENDAR
VERSION:2.0
PRODID:-//ChamberMaster//Event Calendar 2.0//EN
METHOD:PUBLISH
X-PUBLISHED-TTL:P3D
REFRESH-INTERVAL:P3D
CALSCALE:GREGORIAN
BEGIN:VEVENT
DTSTART:20220627T190000Z
DTEND:20220727T200000Z
X-MICROSOFT-CDO-ALLDAYEVENT:FALSE
SUMMARY:Middle Grade Book Group - The Pageturners
DESCRIPTION:This is a Graves Library & Kennebunk Free Library program. Books are available at both libraries. This month\, the group will meet at Kennebunk Free Library to discuss Treasure Hunters by James Patterson. Please call (207) 967-2778 for more information.
X-ALT-DESC;FMTTYPE=text/html:This is a Graves Library &amp\; Kennebunk Free Library program. Books are available at both libraries. This month\, the group will meet at Kennebunk Free Library to discuss Treasure Hunters by James Patterson. Please call (207) 967-2778 for more information.
LOCATION:Kennebunk Free Library
UID:e.1923.17518
SEQUENCE:3
DTSTAMP:20260419T192047Z
URL:https://chamber.gokennebunks.com/events/details/middle-grade-book-group-the-pageturners-17518
END:VEVENT

END:VCALENDAR
