BEGIN:VCALENDAR
VERSION:2.0
PRODID:-//ChamberMaster//Event Calendar 2.0//EN
METHOD:PUBLISH
X-PUBLISHED-TTL:P3D
REFRESH-INTERVAL:P3D
CALSCALE:GREGORIAN
BEGIN:VEVENT
DTSTART:20190827T000000Z
DTEND:20190827T023000Z
X-MICROSOFT-CDO-ALLDAYEVENT:FALSE
SUMMARY:Michelle Currie and Friends
DESCRIPTION:Local favorite Michelle Currie is returning to the Vinegar Hill stage accompanied by Musical Director/Arranger Jim Rice and the Jim Rice Band. These tickets go fast and have sold out for the past two years so make sure you have your's early! This all new show features Broadway favorites\, cabaret classics and original works with contemporary influences. Michelle's powerful voice and personal interpretations coupled with eloquent arrangements by Jim Rice and the jazzy sounds of the Jim Rice Band make this a show to remember. Here's what people are saying about Michelle: " Michelle is the true definition of an entertainer." " what differentiates Michelle is not only her unique song selection\, but her genuine ability to stay connected with her audience and trigger emotion with each passing note and story she shares."
X-ALT-DESC;FMTTYPE=text/html:Local favorite Michelle Currie is returning to the Vinegar Hill stage accompanied by Musical Director/Arranger Jim Rice and the Jim Rice Band. These tickets go fast and have sold out for the past two years so make sure you have your&#39\;s early! This all new show features Broadway favorites\, cabaret classics and original works with contemporary influences. Michelle&#39\;s powerful voice and personal interpretations coupled with eloquent arrangements by Jim Rice and the jazzy sounds of the Jim Rice Band make this a show to remember. Here&rsquo\;s what people are saying about Michelle: &ldquo\;&hellip\;Michelle is the true definition of an entertainer.&rdquo\; &ldquo\;&hellip\;what differentiates Michelle is not only her unique song selection\, but her genuine ability to stay connected with her audience and trigger emotion with each passing note and story she shares.&rdquo\;
LOCATION:Vinegar Hill Music Theatre 53 Old Post Rd Arundel\, ME 04046
UID:e.1923.11539
SEQUENCE:3
DTSTAMP:20260424T182229Z
URL:https://chamber.gokennebunks.com/events/details/michelle-currie-and-friends-11539
END:VEVENT

END:VCALENDAR
