BEGIN:VCALENDAR
VERSION:2.0
PRODID:-//ChamberMaster//Event Calendar 2.0//EN
METHOD:PUBLISH
X-PUBLISHED-TTL:P3D
REFRESH-INTERVAL:P3D
CALSCALE:GREGORIAN
BEGIN:VEVENT
DTSTART:20180626T000000Z
DTEND:20180626T020000Z
X-MICROSOFT-CDO-ALLDAYEVENT:FALSE
SUMMARY:Michelle Currie
DESCRIPTION:This all new show features Broadway favorites\, cabaret classics and original works with contemporary influences. Michelle?s powerful voice and personal interpretations coupled with eloquent arrangements by Jim Rice and the jazzy sounds of the Jim Rice Band make this a show to remember. Come be part of this eclectic and inspiring concert\, which will be recorded live for Michelle?s next CD to be released later this year.
X-ALT-DESC;FMTTYPE=text/html:This all new show features Broadway favorites\, cabaret classics and original works with contemporary influences. Michelle?s powerful voice and personal interpretations coupled with eloquent arrangements by Jim Rice and the jazzy sounds of the Jim Rice Band make this a show to remember. Come be part of this eclectic and inspiring concert\, which will be recorded live for Michelle?s next CD to be released later this year. 
LOCATION:Vinegar Hill Music Theatre 53 Old Post Rd. Arundel\, ME 04046
UID:e.1923.7162
SEQUENCE:3
DTSTAMP:20260425T143028Z
URL:https://chamber.gokennebunks.com/events/details/michelle-currie-7162
END:VEVENT

END:VCALENDAR
