BEGIN:VCALENDAR
VERSION:2.0
PRODID:-//ChamberMaster//Event Calendar 2.0//EN
METHOD:PUBLISH
X-PUBLISHED-TTL:P3D
REFRESH-INTERVAL:P3D
CALSCALE:GREGORIAN
BEGIN:VEVENT
DTSTART:20240816T130000Z
DTEND:20240816T160000Z
X-MICROSOFT-CDO-ALLDAYEVENT:FALSE
SUMMARY:METALSMITHING WORKSHOP: LEARN TO MAKE A RING
DESCRIPTION:9:00AM-12:00PM\n\nAUGUST 16th (one-day workshop)\n\nGrades 7+\n\nInstructor: Katie Boucher\n\nThis is a beginner workshop where we will be making rings. We will learn the basic techniques by using most of the tools in the studio. We will learn how to add texture to a piece\, we will use the torch to solder pieces and we will learn how to clean and polish a piece. Each participant will go home with a finished product.\n\nMax attendees: 6\n\n\n\nREGISTER HERE: https://rivertree.app.neoncrm.com/np/clients/rivertree/event.jsp?event=12480&\n\n\n\nMembers: $95 | Non-Members: $105 (all supplies included)
X-ALT-DESC;FMTTYPE=text/html:<p><strong>9:00AM-12:00PM<br />\nAUGUST 16th (one-day workshop)<br />\nGrades 7+</strong><br />\n<em>Instructor:&nbsp\;Katie Boucher</em></p>\n\n<p>This is a beginner workshop where we will be making rings. We will learn the basic techniques by using most of the tools in the studio. We will learn how to add texture to a piece\, we will use the torch to solder pieces and we will learn how to clean and polish a piece. Each participant will go home with a finished product.</p>\n\n<p>Max attendees: 6<br />\n<br />\nREGISTER HERE:&nbsp\;<a href="https://rivertree.app.neoncrm.com/np/clients/rivertree/event.jsp?event=12480&amp\;">https://rivertree.app.neoncrm.com/np/clients/rivertree/event.jsp?event=12480&amp\;</a><br />\n<br />\nMembers: $95 | Non-Members: $105 (all supplies included)</p>\n
LOCATION:River Tree Arts\, 35 Western Ave.\, Kennebunk\, Maine
UID:e.1923.24536
SEQUENCE:3
DTSTAMP:20260421T124228Z
URL:https://chamber.gokennebunks.com/events/details/metalsmithing-workshop-learn-to-make-a-ring-08-16-2024-24536
END:VEVENT

END:VCALENDAR
