BEGIN:VCALENDAR
VERSION:2.0
PRODID:-//ChamberMaster//Event Calendar 2.0//EN
METHOD:PUBLISH
X-PUBLISHED-TTL:P3D
REFRESH-INTERVAL:P3D
CALSCALE:GREGORIAN
BEGIN:VEVENT
DTSTART:20240422T220000Z
DTEND:20240521T000000Z
X-MICROSOFT-CDO-ALLDAYEVENT:FALSE
SUMMARY:METALSMITHING: INTRO TO STONE SETTING
DESCRIPTION:MONDAYS 6:00-8:00PM\n\n5 weeks: April 22   May 20 (makeup if RTA cancels class: 6/3) \n\nInstructor: Marrick Auger\n\n\n\nJoin Marrick for an adult metal smiting class\, "Intro to Stone Setting". Students will learn the basics of metal smithing\, torch work and stone setting in a fun group environment.  All participants will learn how to design contract and finish a piece in sterling silver or brass. No previous experience needed. Class is limited to 6 per session.\n\n\n\nREGISTER HERE: https://rivertree.app.neoncrm.com/np/clients/rivertree/event.jsp?event=12280&\n\n\n\nMembers: $190 | Non-Members: $215
X-ALT-DESC;FMTTYPE=text/html:MONDAYS 6:00-8:00PM<br />\n5 weeks: April 22 &ndash\; May 20 (makeup if RTA cancels class: 6/3)&nbsp\;<br />\nInstructor: Marrick Auger<br />\n<br />\nJoin Marrick for an adult metal smiting class\, &ldquo\;Intro to Stone Setting&rdquo\;. Students will learn the basics of metal smithing\, torch work and stone setting in a fun group environment. &nbsp\;All participants will learn how to design contract and finish a piece in sterling silver or brass. No previous experience needed. Class is limited to 6 per session.<br />\n<br />\nREGISTER HERE:&nbsp\;<a href="https://rivertree.app.neoncrm.com/np/clients/rivertree/event.jsp?event=12280&amp\;">https://rivertree.app.neoncrm.com/np/clients/rivertree/event.jsp?event=12280&amp\;</a><br />\n<br />\nMembers: $190 | Non-Members: $215
LOCATION:River Tree Arts\, 35 Western Ave.\, Kennebunk\, Maine
UID:e.1923.24549
SEQUENCE:3
DTSTAMP:20260421T152954Z
URL:https://chamber.gokennebunks.com/events/details/metalsmithing-intro-to-stone-setting-24549
END:VEVENT

END:VCALENDAR
