BEGIN:VCALENDAR
VERSION:2.0
PRODID:-//ChamberMaster//Event Calendar 2.0//EN
METHOD:PUBLISH
X-PUBLISHED-TTL:P3D
REFRESH-INTERVAL:P3D
CALSCALE:GREGORIAN
BEGIN:VEVENT
DTSTART:20240824T000000Z
DTEND:20240824T020000Z
X-MICROSOFT-CDO-ALLDAYEVENT:FALSE
SUMMARY:Merther FREE SHOW
DESCRIPTION:Join us for food and drinks before the show in our outdoor garden starting at 6pm!\n\nThe night's food truck is Great Wave Sushi!\n\n \n\nWe're so excited to be hosting an evening of free music with one of the most inventive sushi food carts in the game   Great Wave Sushi! For those who remember\, we hosted a similar event last year (our Friday Chill!) and Great Wave ended up selling out of all their items! You can expect creative sushi concoctions like Sushi Burgers\, Sushi Burritos\, and Poke Nachos that will immediately have you searching for the next time you can indulge in their food again!\n\nThe night will also feature local\, live music from Merther inside our barn\, with a comfortable mixture of seats and standing room to accomdate people who are looking to sit and enjoy the show or get up and dance! Weather permitting\, we'll also have our outdoor patio and bar open\, so everyone has room to spread out and enjoy the night the best way they see fit!\n\n \n\nA little bit about Merther:\n\nFusing everything from jazz\, soul\, calypso\, jamtronica\, and funk -to prog rock\, heavy metal\, reggae/dub\, psychedelia and jamband rock\, Merther has been writing and performing original music all around the Northeast for well over a decade and counting!\n\nThey have generated and sustained a following of all different types of music lovers\, continuing to dazzle audiences with harmonized and syncopated licks between instruments\, poetic and critical lyrics\, and deep sonic improvisations.
X-ALT-DESC;FMTTYPE=text/html:<p>Join us for food and drinks before the show in our outdoor garden starting at 6pm!</p>\n\n<p>The night&rsquo\;s food truck is&nbsp\;<a href="https://www.greatwavesushi.com/" style="box-sizing: border-box\; color: rgb(195\, 89\, 51)\; text-decoration-line: none\; background-color: transparent\; box-shadow: none\;">Great Wave Sushi!</a></p>\n\n<p>&nbsp\;</p>\n\n<p>We&rsquo\;re so excited to be hosting an evening of free music with one of the most inventive sushi food carts in the game &ndash\;&nbsp\;Great Wave Sushi!&nbsp\;For those who remember\, we hosted a similar event last year (our Friday Chill!) and Great Wave ended up selling out of all their items! You can expect creative sushi concoctions like Sushi Burgers\, Sushi Burritos\, and Poke Nachos that will immediately have you searching for the next time you can indulge in their food again!</p>\n\n<p>The night will also feature local\, live music from&nbsp\;Merther&nbsp\;inside our barn\, with a comfortable mixture of seats and standing room to accomdate people who are looking to sit and enjoy the show or get up and dance! Weather permitting\, we&rsquo\;ll also have our outdoor patio and bar open\, so everyone has room to spread out and enjoy the night the best way they see fit!</p>\n\n<p>&nbsp\;</p>\n\n<p><em>A little bit about&nbsp\;Merther:</em></p>\n\n<p>Fusing everything from jazz\, soul\, calypso\, jamtronica\, and funk -to prog rock\, heavy metal\, reggae/dub\, psychedelia and jamband rock\,&nbsp\;Merther&nbsp\;has been writing and performing original music all around the Northeast for well over a decade and counting!</p>\n\n<p>They have generated and sustained a following of all different types of music lovers\, continuing to dazzle audiences with harmonized and syncopated licks between instruments\, poetic and critical lyrics\, and deep sonic improvisations.</p>\n
LOCATION:Vinegar Hill Music Theatre 53 Old Post Road Arundel\, Maine 04046
UID:e.1923.29809
SEQUENCE:3
DTSTAMP:20260421T111439Z
URL:https://chamber.gokennebunks.com/events/details/merther-free-show-29809
END:VEVENT

END:VCALENDAR
