BEGIN:VCALENDAR
VERSION:2.0
PRODID:-//ChamberMaster//Event Calendar 2.0//EN
METHOD:PUBLISH
X-PUBLISHED-TTL:P3D
REFRESH-INTERVAL:P3D
CALSCALE:GREGORIAN
BEGIN:VEVENT
DTSTART:20231210T203000Z
DTEND:20231210T213000Z
X-MICROSOFT-CDO-ALLDAYEVENT:FALSE
SUMMARY:Merry Tuba Christmas at The Nonantum Resort
DESCRIPTION:Merry Tuba Christmas at The Nonantum Resort \n\nat The Nonantum Resort\, 95 Ocean Ave\, Kennebunkport\, Maine\n\nTuba Christmas is a musical concert held in cities worldwide that celebrates those who play\, teach\, and compose music for instruments in the tuba family. Local musicians of all ages gather to play traditional Christmas carols each year in the Nonantum Resort Ballroom. Join us as we proudly showcase this brass tradition in Kennebunkport.\n\n\n\nThis is a free event open to the public.
X-ALT-DESC;FMTTYPE=text/html:<h2><strong>Merry Tuba Christmas at The Nonantum Resort&nbsp\;</strong></h2>\n\n<p>at The Nonantum Resort\, 95 Ocean Ave\, Kennebunkport\, Maine</p>\n\n<p>Tuba Christmas is a musical concert held in cities worldwide that celebrates those who play\, teach\, and compose music for instruments in the tuba family. Local musicians of all ages gather to play traditional Christmas carols each year in the Nonantum Resort Ballroom. Join us as we proudly showcase this brass tradition in Kennebunkport.<br />\n<br />\nThis is a free event open to the public.</p>\n
LOCATION:The Nonantum Resort\, 95 Ocean Ave\, Kennebunkport\, Maine
UID:e.1923.23137
SEQUENCE:3
DTSTAMP:20260421T221613Z
URL:https://chamber.gokennebunks.com/events/details/merry-tuba-christmas-at-the-nonantum-resort-23137
END:VEVENT

END:VCALENDAR
