BEGIN:VCALENDAR
VERSION:2.0
PRODID:-//ChamberMaster//Event Calendar 2.0//EN
METHOD:PUBLISH
X-PUBLISHED-TTL:P3D
REFRESH-INTERVAL:P3D
CALSCALE:GREGORIAN
BEGIN:VEVENT
DTSTART:20240602T190000Z
DTEND:20240602T210000Z
X-MICROSOFT-CDO-ALLDAYEVENT:FALSE
SUMMARY:Menopause The Musical 2: "Cruising Through the Change"
DESCRIPTION:All aboard\, sisters! Get ready for the hysterical sequel to the hit show "Menopause The Musical ." The North American Premiere Tour docks in Maine for a single\, unmissable performance right here in Sanford! Five years after their memorable department store encounter\, our beloved ladies are setting sail for more uproarious adventures on the high seas. "Menopause The Musical 2: Cruising Through 'The Change' " delivers side-splitting laughs and heart-warming moments as they delve into the world of menopause\, friendship\, and all the comedic hot flashes\, mood swings\, and memory glitches that come with it! For these four ladies\, menopause isn't an ending   it is the start of an enduring friendship where love triumphs and bonds never break. Embark on a journey of self-discovery\, while grooving to a toe-tapping playlist of parodied hits from the '70s\, '80s\, and '90s.
X-ALT-DESC;FMTTYPE=text/html:<p><span style="background-color:transparent\; color:rgb(0\, 0\, 0)\; font-family:trebuchet ms\,sans-serif\; font-size:11pt">All aboard\, sisters! Get ready for the hysterical sequel to the hit show &ldquo\;Menopause The Musical&reg\;.&rdquo\; The North American Premiere Tour docks in Maine for a single\, unmissable performance right here in Sanford! Five years after their memorable department store encounter\, our beloved ladies are setting sail for more uproarious adventures on the high seas. &ldquo\;Menopause The Musical 2: Cruising Through &lsquo\;The Change&rsquo\;&reg\;&rdquo\; delivers side-splitting laughs and heart-warming moments as they delve into the world of menopause\, friendship\, and all the comedic hot flashes\, mood swings\, and memory glitches that come with it! For these four ladies\, menopause isn&rsquo\;t an ending &mdash\; it is the start of an enduring friendship where love triumphs and bonds never break. Embark on a journey of self-discovery\, while grooving to a toe-tapping playlist of parodied hits from the &rsquo\;70s\, &rsquo\;80s\, and &rsquo\;90s.&nbsp\;</span></p>\n\n<div>&nbsp\;</div>\n
LOCATION:Sanford Performing Arts Center\, 100 Alumni Blvd.\, Sanford
UID:e.1923.22533
SEQUENCE:3
DTSTAMP:20260421T140302Z
URL:https://chamber.gokennebunks.com/events/details/menopause-the-musical-2-cruising-through-the-change-22533
END:VEVENT

END:VCALENDAR
