BEGIN:VCALENDAR
VERSION:2.0
PRODID:-//ChamberMaster//Event Calendar 2.0//EN
METHOD:PUBLISH
X-PUBLISHED-TTL:P3D
REFRESH-INTERVAL:P3D
CALSCALE:GREGORIAN
BEGIN:VEVENT
DTSTART:20190526T160000Z
DTEND:20190526T160000Z
X-MICROSOFT-CDO-ALLDAYEVENT:FALSE
SUMMARY:Memorial Day Ceremony
DESCRIPTION:Memorial Day observation-Time to be announced
X-ALT-DESC;FMTTYPE=text/html:Memorial Day observation-Time to be announced
LOCATION:Veterans Memorial @ Fire Station Limerick Road\, Arundel
UID:e.1923.13074
SEQUENCE:3
DTSTAMP:20260424T210056Z
URL:https://chamber.gokennebunks.com/events/details/memorial-day-ceremony-13074
END:VEVENT

END:VCALENDAR
