BEGIN:VCALENDAR
VERSION:2.0
PRODID:-//ChamberMaster//Event Calendar 2.0//EN
METHOD:PUBLISH
X-PUBLISHED-TTL:P3D
REFRESH-INTERVAL:P3D
CALSCALE:GREGORIAN
BEGIN:VEVENT
DTSTART;VALUE=DATE:20230819
DTEND;VALUE=DATE:20230820
TRANSP:TRANSPARENT
X-MICROSOFT-CDO-ALLDAYEVENT:TRUE
SUMMARY:Members Day and Open House at Seashore
DESCRIPTION:Participate in our 2023 Members Day and Open House at Seashore on Saturday\, August 19th from 9:30AM-4:30PM. Admission is free for ALL. We love our members\, and this is the day we set aside to show it! It's a great day to become a member\, too!\n\nCheck www.trolleymuseum.org as the date gets closer for the event schedule.\n\nWe hope to see you!
X-ALT-DESC;FMTTYPE=text/html:<p>Participate in our 2023 Members Day and Open House at Seashore on Saturday\, August 19th from 9:30AM-4:30PM. Admission is free for ALL. We love our members\, and this is the day we set aside to show it! It&rsquo\;s a great day to become a member\, too!</p>\n\n<p>Check <a href="http://www.trolleymuseum.org">www.trolleymuseum.org</a> as the date gets closer for the event schedule.</p>\n\n<div>We hope to see you!</div>\n
LOCATION:Seashore Trolley Museum 195 Log Cabin Road Kennebunkport\, ME 04046
UID:e.1923.19095
SEQUENCE:3
DTSTAMP:20260422T045454Z
URL:https://chamber.gokennebunks.com/events/details/members-day-and-open-house-at-seashore-19095
END:VEVENT

END:VCALENDAR
