BEGIN:VCALENDAR
VERSION:2.0
PRODID:-//ChamberMaster//Event Calendar 2.0//EN
METHOD:PUBLISH
X-PUBLISHED-TTL:P3D
REFRESH-INTERVAL:P3D
CALSCALE:GREGORIAN
BEGIN:VEVENT
DTSTART:20180630T160000Z
DTEND:20180630T210000Z
X-MICROSOFT-CDO-ALLDAYEVENT:FALSE
SUMMARY:Member-Guest Day at the Brick Store Museum
DESCRIPTION:Calling all museum members!\nIt's a Museum celebration! Museum members and their guests (members may invite as many people as they want!) are invited to the Brick Store Museum for a brand-new event that re-thinks the Members Meeting. During the Member-Guest Day\, you'll get a glimpse of museum operations\, go behind the scenes\, take part in fun activities\, and hear about what's ahead for the museum.\n\nJoin us for silent movies\, a tour of our costume collection\, a cocktail reception\, and so much more!\n\n\n\nOrder a boxed lunch from our website\, or bring your own!
X-ALT-DESC;FMTTYPE=text/html:Calling all museum members!\n<p>It&rsquo\;s a Museum celebration! Museum members and their guests (members may invite as many people as they want!) are invited to the Brick Store Museum for a brand-new event that re-thinks the Members Meeting. During the Member-Guest Day\, you&rsquo\;ll get a glimpse of museum operations\, go behind the scenes\, take part in fun activities\, and hear about what&rsquo\;s ahead for the museum.</p>\n\n<p>Join us for&nbsp\;silent movies\, a tour of our costume collection\, a cocktail reception\, and so much more!<br />\n<br />\nOrder a boxed lunch <a href="http://www.brickstoremuseum.org/product/member-guest-day-boxed-lunch/">from our website</a>\, or bring your own!&nbsp\;</p>\n
LOCATION:Brick Store Museum 117 Main Street Kennebunk\, Maine\, 04043
UID:e.1923.9903
SEQUENCE:3
DTSTAMP:20260425T143512Z
URL:https://chamber.gokennebunks.com/events/details/member-guest-day-at-the-brick-store-museum-9903
END:VEVENT

END:VCALENDAR
