BEGIN:VCALENDAR
VERSION:2.0
PRODID:-//ChamberMaster//Event Calendar 2.0//EN
METHOD:PUBLISH
X-PUBLISHED-TTL:P3D
REFRESH-INTERVAL:P3D
CALSCALE:GREGORIAN
BEGIN:VEVENT
DTSTART:20230716T210000Z
DTEND:20230717T010000Z
X-MICROSOFT-CDO-ALLDAYEVENT:FALSE
SUMMARY:MELGES: The Wizard of Zenda Film presented by: Peter Harken
DESCRIPTION:Join The Landing School for the kick-off of The Summer Evening Series. T?he Landing School will offer tours of the campus at 4:00pm followed by light refreshments and the film at 5:00pm.\n\nH?ear from the National Sailing Hall of Fame member\, Peter Harken\, as he introduces MELGES: The Wizard of Zenda\, by reflecting on 50 years of sailing and ice-boating with his long-time friend\, Buddy.\n\nThe feature length documentary of MELGES: The Wizard of Zenda takes you beyond the headlines to explore Buddy's extraordinary life. With interviews\, archival film footage and video gathered across five decades\, you'll learn about a sailor from a working-class family in southern Wisconsin who built a resume of winning that made him one of the greatest sailors of all time.\n\nS?AVE THE DATE for our next events:\n\nJuly 20th - Maiden\, a film telling the story of Tracy Edwards\n\nA?ugust 13th - Joe and Brian Harris\, Landing School alumni who completed the Globe 40
X-ALT-DESC;FMTTYPE=text/html:<p>Join The Landing School for the kick-off of The Summer Evening Series. T?he Landing School will offer tours of the campus at 4:00pm followed by light refreshments and the film at 5:00pm.</p>\n\n<p>H?ear from the National Sailing Hall of Fame member\, Peter Harken\, as he introduces MELGES: The Wizard of Zenda\, by reflecting on 50 years of sailing and ice-boating with his long-time friend\, Buddy.</p>\n\n<p>The feature length documentary of MELGES: The Wizard of Zenda takes you beyond the headlines to explore Buddy&rsquo\;s extraordinary life. With interviews\, archival film footage and video gathered across five decades\, you&rsquo\;ll learn about a sailor from a working-class family in southern Wisconsin who built a resume of winning that made him one of the greatest sailors of all time.</p>\n\n<p>S?AVE THE DATE for our next events:</p>\n\n<p>July 20th - Maiden\, a film telling the story of Tracy Edwards</p>\n\n<p>A?ugust 13th - Joe and Brian Harris\, Landing School alumni who completed the Globe 40</p>\n
LOCATION:The Landing School 286 River Road\, Arundel ME 04046
UID:e.1923.20892
SEQUENCE:3
DTSTAMP:20260422T063707Z
URL:https://chamber.gokennebunks.com/events/details/melges-the-wizard-of-zenda-film-presented-by-peter-harken-20892
END:VEVENT

END:VCALENDAR
