BEGIN:VCALENDAR
VERSION:2.0
PRODID:-//ChamberMaster//Event Calendar 2.0//EN
METHOD:PUBLISH
X-PUBLISHED-TTL:P3D
REFRESH-INTERVAL:P3D
CALSCALE:GREGORIAN
BEGIN:VEVENT
DTSTART:20180106T200000Z
DTEND:20180127T220000Z
X-MICROSOFT-CDO-ALLDAYEVENT:FALSE
SUMMARY:Meet the brewery & pizza making class!
DESCRIPTION:"Meet the Brewery & Pizza Making Class" Price: $25 per person When: 3-5PM ~ Saturdays during January! What: Come in to Ports of Italy the Kennebunks on any Saturday during January from 3-5PM to learn about Beer 101 & make your own pizza! Hear from the breweries and taste different beers from down the road in Maine all the way over to Vermont. Jan 6: TBD Jan 13: TBD Jan 20: Boothbay Brewing Company Jan 27: TBD Learn to make authentic Italian Pizza in our Neapolitan Wood Fired Pizza Oven from Chef German Lucarelli! Claim your spot today & get your tickets below!
X-ALT-DESC;FMTTYPE=text/html:&quot\;Meet the Brewery &amp\; Pizza Making Class&quot\; Price: $25 per person When: 3-5PM ~ Saturdays during January! What: Come in to Ports of Italy the Kennebunks on any Saturday during January from 3-5PM to learn about Beer 101 &amp\; make your own pizza! Hear from the breweries and taste different beers from down the road in Maine all the way over to Vermont. Jan 6: TBD Jan 13: TBD Jan 20: Boothbay Brewing Company Jan 27: TBD Learn to make authentic Italian Pizza in our Neapolitan Wood Fired Pizza Oven from Chef German Lucarelli! Claim your spot today &amp\; get your tickets below!
LOCATION:Ports of Italy the Kennebunks
UID:e.1923.7000
SEQUENCE:3
DTSTAMP:20260425T224256Z
URL:https://chamber.gokennebunks.com/events/details/meet-the-brewery-pizza-making-class-7000
END:VEVENT

END:VCALENDAR
