BEGIN:VCALENDAR
VERSION:2.0
PRODID:-//ChamberMaster//Event Calendar 2.0//EN
METHOD:PUBLISH
X-PUBLISHED-TTL:P3D
REFRESH-INTERVAL:P3D
CALSCALE:GREGORIAN
BEGIN:VEVENT
DTSTART:20231211T161500Z
DTEND:20231211T164500Z
X-MICROSOFT-CDO-ALLDAYEVENT:FALSE
SUMMARY:meditation class
DESCRIPTION:join us for a half hour meditation class the second monday of the month at 11:15A. a meditation practice is about learning to be aware of what's going on in the present moment and to maintain that awareness regardless of the mind's tendency to wander. learn the power of meditation by bringing mindfulness to your breath + your body to find connection within.
X-ALT-DESC;FMTTYPE=text/html:join us for a half hour meditation class the second monday of the month at 11:15A. a meditation practice is about learning to be aware of what&rsquo\;s going on in the present moment and to maintain that awareness regardless of the mind&rsquo\;s tendency to wander. learn the power of meditation by bringing mindfulness to your breath + your body to find connection within.
LOCATION:The Daily Sweat Kennebunk 65 Portland Rd Kennebunk\, ME\, 04043
UID:e.1923.23107
SEQUENCE:3
DTSTAMP:20260421T220721Z
URL:https://chamber.gokennebunks.com/events/details/meditation-class-12-11-2023-23107
END:VEVENT

END:VCALENDAR
