BEGIN:VCALENDAR
VERSION:2.0
PRODID:-//ChamberMaster//Event Calendar 2.0//EN
METHOD:PUBLISH
X-PUBLISHED-TTL:P3D
REFRESH-INTERVAL:P3D
CALSCALE:GREGORIAN
BEGIN:VEVENT
DTSTART:20241021T150000Z
DTEND:20241021T154500Z
X-MICROSOFT-CDO-ALLDAYEVENT:FALSE
SUMMARY:Meditation Class
DESCRIPTION:Come find your journey to tranquility and experience the transformative effects of mindfulness. Take this 45 minute class to recenter yourself\, reduce stress\, and cultivate peace. Embrace the power of mindfulness and discover how a simple practice can transform your life.
X-ALT-DESC;FMTTYPE=text/html:<span style="color:rgb(0\, 0\, 0)\; font-family:arial">Come find your journey to tranquility and experience the transformative effects of mindfulness. Take this 45 minute class to recenter yourself\, reduce stress\, and cultivate peace. Embrace the power of mindfulness and discover how a simple practice can transform your life.</span>
LOCATION:65 Portland Rd Kennebunk\, ME
UID:e.1923.30540
SEQUENCE:3
DTSTAMP:20260421T095920Z
URL:https://chamber.gokennebunks.com/events/details/meditation-class-10-21-2024-30540
END:VEVENT

END:VCALENDAR
