BEGIN:VCALENDAR
VERSION:2.0
PRODID:-//ChamberMaster//Event Calendar 2.0//EN
METHOD:PUBLISH
X-PUBLISHED-TTL:P3D
REFRESH-INTERVAL:P3D
CALSCALE:GREGORIAN
BEGIN:VEVENT
DTSTART:20240922T213000Z
DTEND:20240922T221500Z
X-MICROSOFT-CDO-ALLDAYEVENT:FALSE
SUMMARY:meditation class
DESCRIPTION:join us for this 45 minute guided meditation class. a meditation practice is about learning to be aware of what's going on in the present moment and to maintain that awareness regardless of the mind's tendency to wander. learn the power of meditation by bringing mindfulness to your breath + your body to find connection within.
X-ALT-DESC;FMTTYPE=text/html:<div>\n<div style="margin-right:auto">\n<div style="margin-right:auto">\n<div style="margin-right:auto">\n<div>\n<div>\n<div style="margin-right:auto">\n<div>\n<div>\n<div>\n<div>\n<div>\n<div>&nbsp\;</div>\n</div>\n</div>\n</div>\n</div>\n</div>\n</div>\n\n<div>join us for this 45 minute guided meditation class. a meditation practice is about learning to be aware of what&rsquo\;s going on in the present moment and to maintain that awareness regardless of the mind&rsquo\;s tendency to wander. learn the power of meditation by bringing mindfulness to your breath + your body to find connection within.</div>\n</div>\n</div>\n</div>\n</div>\n</div>\n</div>\n
LOCATION:The Daily Sweat 65 Portland Rd Kennebunk\, ME
UID:e.1923.29827
SEQUENCE:3
DTSTAMP:20260421T095933Z
URL:https://chamber.gokennebunks.com/events/details/meditation-class-09-22-2024-29827
END:VEVENT

END:VCALENDAR
