BEGIN:VCALENDAR
VERSION:2.0
PRODID:-//ChamberMaster//Event Calendar 2.0//EN
METHOD:PUBLISH
X-PUBLISHED-TTL:P3D
REFRESH-INTERVAL:P3D
CALSCALE:GREGORIAN
BEGIN:VEVENT
DTSTART:20230814T121500Z
DTEND:20230814T124500Z
X-MICROSOFT-CDO-ALLDAYEVENT:FALSE
SUMMARY:meditation class
DESCRIPTION:join us for a half hour meditation class the second monday of the month at 8:15A. a meditation practice is about learning to be aware of what's going on in the present moment and to maintain that awareness regardless of the mind's tendency to wander. learn the power of meditation by bringing mindfulness to your breath + your body to find connection within.
X-ALT-DESC;FMTTYPE=text/html:join us for a half hour meditation class the second monday of the month at 8:15A. a meditation practice is about learning to be aware of what&rsquo\;s going on in the present moment and to maintain that awareness regardless of the mind&rsquo\;s tendency to wander. learn the power of meditation by bringing mindfulness to your breath + your body to find connection within.
LOCATION:The Daily Sweat 65 Portland Rd. Kennebunk\, ME 04043
UID:e.1923.21510
SEQUENCE:3
DTSTAMP:20260422T033604Z
URL:https://chamber.gokennebunks.com/events/details/meditation-class-08-14-2023-21510
END:VEVENT

END:VCALENDAR
