BEGIN:VCALENDAR
VERSION:2.0
PRODID:-//ChamberMaster//Event Calendar 2.0//EN
METHOD:PUBLISH
X-PUBLISHED-TTL:P3D
REFRESH-INTERVAL:P3D
CALSCALE:GREGORIAN
BEGIN:VEVENT
DTSTART:20250713T223000Z
DTEND:20250713T231500Z
X-MICROSOFT-CDO-ALLDAYEVENT:FALSE
SUMMARY:meditation class
DESCRIPTION:join us for a 45 min meditation class. a meditation practice is about learning to be aware of what's going on in the present moment and to maintain that awareness regardless of the mind's tendency to wander. learn the power of meditation by bringing mindfulness to your breath + your body to find connection within.
X-ALT-DESC;FMTTYPE=text/html:join us for a 45 min meditation class. a meditation practice is about learning to be aware of what&rsquo\;s going on in the present moment and to maintain that awareness regardless of the mind&rsquo\;s tendency to wander. learn the power of meditation by bringing mindfulness to your breath + your body to find connection within.&nbsp\;
LOCATION:65 Portland RD\, Kennebunk ME\, 04043
UID:e.1923.35906
SEQUENCE:3
DTSTAMP:20260421T073250Z
URL:https://chamber.gokennebunks.com/events/details/meditation-class-07-13-2025-35906
END:VEVENT

END:VCALENDAR
