BEGIN:VCALENDAR
VERSION:2.0
PRODID:-//ChamberMaster//Event Calendar 2.0//EN
METHOD:PUBLISH
X-PUBLISHED-TTL:P3D
REFRESH-INTERVAL:P3D
CALSCALE:GREGORIAN
BEGIN:VEVENT
DTSTART:20240408T150000Z
DTEND:20240408T154500Z
X-MICROSOFT-CDO-ALLDAYEVENT:FALSE
SUMMARY:meditation class
DESCRIPTION:join us for a 45 minute meditation class the second monday of the month at 11A. a meditation practice is about learning to be aware of what's going on in the present moment and to maintain that awareness regardless of the mind's tendency to wander. learn the power of meditation by bringing mindfulness to your breath + your body to find connection within.
X-ALT-DESC;FMTTYPE=text/html:<span style="color:rgb(0\, 0\, 0)\; font-family:arial">join us for a 45 minute meditation class the second monday of the month at 11A. a meditation practice is about learning to be aware of what&rsquo\;s going on in the present moment and to maintain that awareness regardless of the mind&rsquo\;s tendency to wander. learn the power of meditation by bringing mindfulness to your breath + your body to find connection within.&nbsp\;</span>
LOCATION:The Daily Sweat 65 Portland Rd\, Kennebunk\, ME
UID:e.1923.24487
SEQUENCE:3
DTSTAMP:20260421T164016Z
URL:https://chamber.gokennebunks.com/events/details/meditation-class-04-08-2024-24487
END:VEVENT

END:VCALENDAR
