BEGIN:VCALENDAR
VERSION:2.0
PRODID:-//ChamberMaster//Event Calendar 2.0//EN
METHOD:PUBLISH
X-PUBLISHED-TTL:P3D
REFRESH-INTERVAL:P3D
CALSCALE:GREGORIAN
BEGIN:VEVENT
DTSTART:20250309T213000Z
DTEND:20250309T223000Z
X-MICROSOFT-CDO-ALLDAYEVENT:FALSE
SUMMARY:meditation class
DESCRIPTION:join us for an hour meditation class the second sunday of the month at 530P. a meditation practice is about learning to be aware of what's going on in the present moment and to maintain that awareness regardless of the mind's tendency to wander. learn the power of meditation by bringing mindfulness to your breath + your body to find connection within. \n\n\n\nsign up using this link: https://www.thedailysweatkennebunk.com/book-a-class
X-ALT-DESC;FMTTYPE=text/html:join us for an hour meditation class the second sunday of the month at 530P. a meditation practice is about learning to be aware of what&rsquo\;s going on in the present moment and to maintain that awareness regardless of the mind&rsquo\;s tendency to wander. learn the power of meditation by bringing mindfulness to your breath + your body to find connection within.&nbsp\;<br />\n<br />\nsign up using this link: https://www.thedailysweatkennebunk.com/book-a-class
LOCATION:65 Portland RD\, Kennebunk\, ME\, 04043
UID:e.1923.33243
SEQUENCE:3
DTSTAMP:20260420T230144Z
URL:https://chamber.gokennebunks.com/events/details/meditation-class-03-09-2025-33243
END:VEVENT

END:VCALENDAR
