BEGIN:VCALENDAR
VERSION:2.0
PRODID:-//ChamberMaster//Event Calendar 2.0//EN
METHOD:PUBLISH
X-PUBLISHED-TTL:P3D
REFRESH-INTERVAL:P3D
CALSCALE:GREGORIAN
BEGIN:VEVENT
DTSTART;VALUE=DATE:20170819
DTEND;VALUE=DATE:20170821
TRANSP:TRANSPARENT
X-MICROSOFT-CDO-ALLDAYEVENT:TRUE
SUMMARY:Meadowlark Designs Woodworking Open Gallery
DESCRIPTION:Meet furniture maker and designer Peter Brown\, browse the gallery and see more than 20 pieces of handcrafted furniture. Our new line up of local artists includes evocative photography by Peter Raymond\, vibrant paintings by Lynne Carr\, and whimsical wood carvings by Don Best.
X-ALT-DESC;FMTTYPE=text/html:Meet furniture maker and designer Peter Brown\, browse the gallery and see more than 20 pieces of handcrafted furniture. Our new line up of local artists includes evocative photography by Peter Raymond\, vibrant paintings by Lynne Carr\, and whimsical wood carvings by Don Best.
LOCATION:143 Walker Road\, Lyman\, Maine
UID:e.1923.5915
SEQUENCE:3
DTSTAMP:20260426T035715Z
URL:https://chamber.gokennebunks.com/events/details/meadowlark-designs-woodworking-open-gallery-08-19-2017-5915
END:VEVENT

END:VCALENDAR
