BEGIN:VCALENDAR
VERSION:2.0
PRODID:-//ChamberMaster//Event Calendar 2.0//EN
METHOD:PUBLISH
X-PUBLISHED-TTL:P3D
REFRESH-INTERVAL:P3D
CALSCALE:GREGORIAN
BEGIN:VEVENT
DTSTART:20180505T140000Z
DTEND:20180505T170000Z
X-MICROSOFT-CDO-ALLDAYEVENT:FALSE
SUMMARY:May Day Basket Making
DESCRIPTION:As part of Downtown Kennebunk's May Day celebration\, stop by the Museum to make your own May basket\, see the Museum's collection of May baskets from the mid-1900s\, and learn about May Day customs.\n\n\n\nThe Museum's galleries will offer free admission for the day.\n\n\n\nFor more information call 985-4802 or visit http://www.brickstoremuseum.org/
X-ALT-DESC;FMTTYPE=text/html:As part of Downtown Kennebunk&rsquo\;s May Day celebration\, stop by the Museum to make your own May basket\, see the Museum&rsquo\;s collection of May baskets from the mid-1900s\, and learn about May Day customs.<br />\n<br />\nThe Museum&rsquo\;s galleries will offer free admission for the day.<br />\n<br />\nFor more information call 985-4802 or visit http://www.brickstoremuseum.org/
LOCATION:Brick Store Museum 117 Main St\, Kennebunk\, ME 04043
UID:e.1923.9813
SEQUENCE:3
DTSTAMP:20260425T154858Z
URL:https://chamber.gokennebunks.com/events/details/may-day-basket-making-9813
END:VEVENT

END:VCALENDAR
