BEGIN:VCALENDAR
VERSION:2.0
PRODID:-//ChamberMaster//Event Calendar 2.0//EN
METHOD:PUBLISH
X-PUBLISHED-TTL:P3D
REFRESH-INTERVAL:P3D
CALSCALE:GREGORIAN
BEGIN:VEVENT
DTSTART:20240608T130000Z
DTEND:20240609T200000Z
X-MICROSOFT-CDO-ALLDAYEVENT:FALSE
SUMMARY:Mastering Mosaics 2-Day Workshop with Lisa Houck at Arundel Farm Gallery
DESCRIPTION:Using her extensive collection of glass smalti tiles\, millefiore and ceramic pieces Lisa Houck will guide you in constructing an 8"x8" mosaic while learning about cutting and placing the tiles to create movement and flow.  In mosaics "andamento\," or flow and movement and flow of the mosaic tessere is important for creating a balanced and pleasing composition. In this class you will work with your own designs to create your 8"x8" mosaics.  These pieces will be constructed on wood substrate with glue and are intended to be hung indoors.  You will learn to cut and grind tiles and to work with glass tiles in a variety of shapes and textures.  Please bring some drawings\, photos or other sources of inspiration for your mosaic designs.  All levels are welcome!  All materials will be provided with a $60.00 materials fee which you will pay the instructor directly on the first day of class (not included in the class fee.)\n\n\n\nLisa Houck is a well-respected mosaic artist\, painter and printmaker who has created many large indoor and outdoor mosaic projects - some in the Boston area.
X-ALT-DESC;FMTTYPE=text/html:Using her extensive collection of glass smalti tiles\, millefiore and ceramic pieces Lisa Houck will guide you in constructing an 8&quot\;x8&quot\; mosaic while learning about cutting and placing the tiles to create movement and flow.&nbsp\; In mosaics &quot\;andamento\,&quot\; or flow and movement and flow of the mosaic tessere is important for creating a balanced and pleasing composition. In this class you will work with your own designs to create your 8&quot\;x8&quot\; mosaics.&nbsp\; These pieces will be constructed on wood substrate with glue and are intended to be hung indoors.&nbsp\; You will learn to cut and grind tiles and to work with glass tiles in a variety of shapes and textures.&nbsp\; Please bring some drawings\, photos or other sources of inspiration for your mosaic designs.&nbsp\; All levels are welcome!&nbsp\; All materials will be provided with a $60.00 materials fee which you will pay the instructor directly on the first day of class (not included in the class fee.)<br />\n<br />\nLisa Houck is a well-respected mosaic artist\, painter and printmaker who has created many large indoor and outdoor mosaic projects - some in the Boston area.
LOCATION:Arundel Farm Gallery\, 76 Arundel Road\, Arundel\, Maine 04046
UID:e.1923.25257
SEQUENCE:3
DTSTAMP:20260421T140356Z
URL:https://chamber.gokennebunks.com/events/details/mastering-mosaics-2-day-workshop-with-lisa-houck-at-arundel-farm-gallery-25257
END:VEVENT

END:VCALENDAR
