BEGIN:VCALENDAR
VERSION:2.0
PRODID:-//ChamberMaster//Event Calendar 2.0//EN
METHOD:PUBLISH
X-PUBLISHED-TTL:P3D
REFRESH-INTERVAL:P3D
CALSCALE:GREGORIAN
BEGIN:VEVENT
DTSTART:20240914T130000Z
DTEND:20240915T200000Z
X-MICROSOFT-CDO-ALLDAYEVENT:FALSE
SUMMARY:Mastering Mosaics 2-Day Workshop with Lisa Houck at Arundel Farm Gallery
DESCRIPTION:Using her extensive collection of glass smalti tiles\, millefiore and ceramic pieces you will construct an 8"X8" mosaic while learning about cutting and placing tiles to create movement and flow.  In mosaics "andamento" or the flow and movement of mosaic "tesserae" is important to create a balanced and pleasing composition. In this workshop you will work with your own designs so bring drawings\, photos or other sources to give you inspiration.  These mosaics will be created on wooden substrates using glue and are meant to hang indoors.  You will learn to cut and grind tiles and to work with glass tiles in a variety of shapes and textures.  There will be a $60.00 materials fee which will be paid to the instructor on the first day of class.  All levels are welcome for this workshop!!\n\n\n\nLisa Houck is a well-respected printmaker\, painter and mosaic artist living in Maine.  She has created many large indoor and outdoor mosaics with some projects in the Boston area.
X-ALT-DESC;FMTTYPE=text/html:Using her extensive collection of glass smalti tiles\, millefiore and ceramic pieces you will construct an 8&quot\;X8&quot\; mosaic while learning about cutting and placing tiles to create movement and flow.&nbsp\; In mosaics &quot\;andamento&quot\; or the flow and movement of mosaic &quot\;tesserae&quot\; is important to create a balanced and pleasing composition. In this workshop you will work with your own designs so bring drawings\, photos or other sources to give you inspiration.&nbsp\; These mosaics will be created on wooden substrates using glue and are meant to hang indoors.&nbsp\; You will learn to cut and grind tiles and to work with glass tiles in a variety of shapes and textures.&nbsp\; There will be a $60.00 materials fee which will be paid to the instructor on the first day of class.&nbsp\; All levels are welcome for this workshop!!<br />\n<br />\nLisa Houck is a well-respected printmaker\, painter and mosaic artist living in Maine.&nbsp\; She has created many large indoor and outdoor mosaics with some projects in the Boston area.&nbsp\;&nbsp\;
LOCATION:Arundel Farm Gallery\, 76 Arundel Road\, Arundel\, Maine 04046
UID:e.1923.25268
SEQUENCE:3
DTSTAMP:20260421T100217Z
URL:https://chamber.gokennebunks.com/events/details/mastering-mosaics-2-day-workshop-with-lisa-houck-at-arundel-farm-gallery-09-14-2024-25268
END:VEVENT

END:VCALENDAR
