BEGIN:VCALENDAR
VERSION:2.0
PRODID:-//ChamberMaster//Event Calendar 2.0//EN
METHOD:PUBLISH
X-PUBLISHED-TTL:P3D
REFRESH-INTERVAL:P3D
CALSCALE:GREGORIAN
BEGIN:VEVENT
DTSTART:20171215T140000Z
DTEND:20171218T000000Z
X-MICROSOFT-CDO-ALLDAYEVENT:FALSE
SUMMARY:Storewide 30% off Sale at Daytrip Society & Daytrip Jr.!
DESCRIPTION:It's goin' down this weekend! 30% off storewide at Daytrip Society & Daytrip Jr. this Friday\, Saturday and Sunday (12/15-17). Open 9am-9pm Fri & Sat and 10am-7pm Sun. Anything previously marked on sale is now 50 to 75% off!  We are so thankful for all of you who shop small family business! We are here for all your shopping needs.  Wishing everyone a most happy holiday.\n\n \n\nPlease note: All items sold at discount are final sale - no returns.
X-ALT-DESC;FMTTYPE=text/html:<div style="text-align:start">It&rsquo\;s goin&rsquo\; down this weekend! 30% off storewide at Daytrip Society &amp\; Daytrip Jr. this Friday\, Saturday and Sunday (12/15-17). Open 9am-9pm Fri &amp\; Sat and 10am-7pm Sun. Anything previously marked on sale is now 50 to 75% off! &nbsp\;We are so thankful for all of you who shop small family business! We are here for all your shopping needs. &nbsp\;Wishing everyone a most happy holiday.</div>\n\n<div style="text-align:start">&nbsp\;</div>\n\n<div style="text-align:start">Please note: All items sold at discount are final sale - no returns.&nbsp\;</div>\n
LOCATION:Daytrip Society 4 Dock Square\, Kennebunkport\, ME 04046 Daytrip Jr. 9 Ocean Avenue\, Kennebunkport\, ME 04046
UID:e.1923.6987
SEQUENCE:3
DTSTAMP:20260425T222950Z
URL:https://chamber.gokennebunks.com/events/details/massive-storewide-30-off-sale-at-daytrip-society-daytrip-jr-6987
END:VEVENT

END:VCALENDAR
