BEGIN:VCALENDAR
VERSION:2.0
PRODID:-//ChamberMaster//Event Calendar 2.0//EN
METHOD:PUBLISH
X-PUBLISHED-TTL:P3D
REFRESH-INTERVAL:P3D
CALSCALE:GREGORIAN
BEGIN:VEVENT
DTSTART:20260404T180000Z
DTEND:20260404T193000Z
X-MICROSOFT-CDO-ALLDAYEVENT:FALSE
SUMMARY:Martini Mixology at Earth
DESCRIPTION:Step into the world of sophisticated cocktails with our exclusive Martini Mixology Class at Earth! Whether you're a martini lover or new to the classic cocktail scene\, this hands-on experience will teach you everything you need to know to craft the perfect martini. In this class\, you'll explore the history and art behind the iconic martini\, from its origins to the modern variations. Our skilled bartenders will guide you through each step teaching you how to select the right base spirits\, balance the flavors\, and garnish to perfection. Learn the essential techniques\, whether you prefer your martini stirred or shaken\, dry or dirty\, with a twist or an olive. Includes three (3) full cocktails tastings and small snacks. Part of programming for Spring into Summer in Kennebunkport! The class warmly welcomes adults who are 21 years of age or older and kindly requests that they bring proper identification upon arrival. We eagerly anticipate your attendance.
X-ALT-DESC;FMTTYPE=text/html:Step into the world of sophisticated cocktails with our exclusive Martini Mixology Class at Earth! Whether you&#39\;re a martini lover or new to the classic cocktail scene\, this hands-on experience will teach you everything you need to know to craft the perfect martini. In this class\, you&rsquo\;ll explore the history and art behind the iconic martini\, from its origins to the modern variations. Our skilled bartenders will guide you through each step&mdash\;teaching you how to select the right base spirits\, balance the flavors\, and garnish to perfection. Learn the essential techniques\, whether you prefer your martini stirred or shaken\, dry or dirty\, with a twist or an olive. Includes three (3) full cocktails tastings and small snacks. Part of programming for Spring into Summer in Kennebunkport! The class warmly welcomes adults who are 21 years of age or older and kindly requests that they bring proper identification upon arrival. We eagerly anticipate your attendance.
LOCATION:Earth at Hidden Pond 354 Goose Rocks Rd Kennebunkport\, ME 04046
UID:e.1923.38956
SEQUENCE:3
DTSTAMP:20260421T220940Z
URL:https://chamber.gokennebunks.com/events/details/martini-mixology-at-earth-04-04-2026-38956
END:VEVENT

END:VCALENDAR
