BEGIN:VCALENDAR
VERSION:2.0
PRODID:-//ChamberMaster//Event Calendar 2.0//EN
METHOD:PUBLISH
X-PUBLISHED-TTL:P3D
REFRESH-INTERVAL:P3D
CALSCALE:GREGORIAN
BEGIN:VEVENT
DTSTART:20190804T000000Z
DTEND:20190804T023000Z
X-MICROSOFT-CDO-ALLDAYEVENT:FALSE
SUMMARY:Martin Sexton
DESCRIPTION:For a second year\, Martin Sexton is going to transform our barn with his incredible talent! In 2018 American singer-songwriter Martin Sexton extends touring in support of his ninth studio release Mixtape of the Open Road. The Wall Street Journal and CMT premiered tracks from the album that since garnered much critical acclaim. "Outstanding taste in songwriting as well as a soul-marinated voice." -Rollingstone Syracuse native Sexton got his start singing in the streets and subways of Boston in the early 90's. Still fiercely independent and headlining venues from The Fillmore to Carnegie Hall\, he has influenced a generation of contemporary artists. His songs have appeared in television series such as Scrubs\, Parenthood\, Masters of Sex and in numerous films\, though it's his incendiary live show\, honest lyrics\, and vocal prowess that keep fans coming back for more.
X-ALT-DESC;FMTTYPE=text/html:For a second year\, Martin Sexton is going to transform our barn with his incredible talent! In 2018 American singer-songwriter Martin Sexton extends touring in support of his ninth studio release Mixtape of the Open Road. The Wall Street Journal and CMT premiered tracks from the album that since garnered much critical acclaim. &ldquo\;Outstanding taste in songwriting as well as a soul-marinated voice.&rdquo\; -Rollingstone Syracuse native Sexton got his start singing in the streets and subways of Boston in the early 90&rsquo\;s. Still fiercely independent and headlining venues from The Fillmore to Carnegie Hall\, he has influenced a generation of contemporary artists. His songs have appeared in television series such as Scrubs\, Parenthood\, Masters of Sex and in numerous films\, though it&rsquo\;s his incendiary live show\, honest lyrics\, and vocal prowess that keep fans coming back for more.
LOCATION:Vinegar Hill Music Theatre 53 Old Post Rd Arundel\, ME 04046
UID:e.1923.12846
SEQUENCE:3
DTSTAMP:20260424T165439Z
URL:https://chamber.gokennebunks.com/events/details/martin-sexton-08-03-2019-12846
END:VEVENT

END:VCALENDAR
