BEGIN:VCALENDAR
VERSION:2.0
PRODID:-//ChamberMaster//Event Calendar 2.0//EN
METHOD:PUBLISH
X-PUBLISHED-TTL:P3D
REFRESH-INTERVAL:P3D
CALSCALE:GREGORIAN
BEGIN:VEVENT
DTSTART:20230729T000000Z
DTEND:20230729T030000Z
X-MICROSOFT-CDO-ALLDAYEVENT:FALSE
SUMMARY:Martin Sexton
DESCRIPTION:"The real thing\, people."  Billboard Martin Sexton returns with what Rolling Stone calls his "soul-marinated voice\," acoustic guitar\, and a suitcase full of heartfelt songs. Still fiercely independent and headlining venues from The Fillmore to Carnegie Hall\, Martin has influenced a generation of contemporary artists. His songs have appeared in television series such as Scrubs\, Parenthood\, Masters of Sex\, Sprung\, and in numerous films\, though it's his incendiary live show\, honest lyrics\, and vocal prowess that keep fans coming back for a new experience every time. The 2023 Tour takes Martin across North America in support of his latest EP 2020 Vision   produced by 3-time Grammy nominee John Alagia (Lukas Nelson\, John Mayer\, Dave Matthews). These critically-acclaimed solo performances will also feature a reinvention of Martin's own classics. Don't miss your opportunity to see the man John Mayer called\, "The best live performer I've ever seen." Get your tickets now!
X-ALT-DESC;FMTTYPE=text/html:&ldquo\;The real thing\, people.&rdquo\; &ndash\;Billboard Martin Sexton returns with what Rolling Stone calls his &ldquo\;soul-marinated voice\,&rdquo\; acoustic guitar\, and a suitcase full of heartfelt songs. Still fiercely independent and headlining venues from The Fillmore to Carnegie Hall\, Martin has influenced a generation of contemporary artists. His songs have appeared in television series such as Scrubs\, Parenthood\, Masters of Sex\, Sprung\, and in numerous films\, though it&rsquo\;s his incendiary live show\, honest lyrics\, and vocal prowess that keep fans coming back for a new experience every time. The 2023 Tour takes Martin across North America in support of his latest EP 2020 Vision &ndash\; produced by 3-time Grammy nominee John Alagia (Lukas Nelson\, John Mayer\, Dave Matthews). These critically-acclaimed solo performances will also feature a reinvention of Martin&rsquo\;s own classics. Don&rsquo\;t miss your opportunity to see the man John Mayer called\, &ldquo\;The best live performer I&rsquo\;ve ever seen.&rdquo\; Get your tickets now!
LOCATION:53 Old Post Road\, Arundel\, ME\, United States\, Maine
UID:e.1923.21922
SEQUENCE:3
DTSTAMP:20260422T050200Z
URL:https://chamber.gokennebunks.com/events/details/martin-sexton-07-28-2023-21922
END:VEVENT

END:VCALENDAR
