BEGIN:VCALENDAR
VERSION:2.0
PRODID:-//ChamberMaster//Event Calendar 2.0//EN
METHOD:PUBLISH
X-PUBLISHED-TTL:P3D
REFRESH-INTERVAL:P3D
CALSCALE:GREGORIAN
BEGIN:VEVENT
DTSTART:20250710T220000Z
DTEND:20250710T230000Z
X-MICROSOFT-CDO-ALLDAYEVENT:FALSE
SUMMARY:MARK GUNTER\, JANET WENTWORTH\, & MARY KENNEDY CONCERT
DESCRIPTION:Thursday\, July 10 at 6:00 PM. Mark Gunter\, Janet Wentworth\, and Mary Kennedy Concert. Join us for some good vibes and live music in the garden at Graves Library Summer Music Series. Bring your friends\, bring your chair\, sit back\, tap your feet\, and listen to some local beat. Mark\, Janet\, and Mary are part of a variety of bands in the area playing country blues and jazz with keyboard and vocals. Let's celebrate summer\, our community\, and our fondness for talented artists right in our own backyard! A suggested donation of $10 per person would be appreciated. This event will be held in the community room in the event of rain. Parking is available on Maine Street or at the Village Fire Station on North Street. The Louis T. Graves Memorial Public Library is located at 18 Maine Street\, Kennebunkport. For further information\, please call 207-967-2778 or visit www.graveslibrary.org.
X-ALT-DESC;FMTTYPE=text/html:<span style="font-family:arial\,sans-serif">Thursday\, July 10 at 6:00 PM. <strong>Mark Gunter\, Janet Wentworth\, and Mary Kennedy Concert</strong>. Join us for some good vibes and live music in the garden at Graves Library Summer Music Series. Bring your friends\, bring your chair\, sit back\, tap your feet\, and listen to some local beat. Mark\, Janet\, and Mary are part of a variety of bands in the area playing country blues and jazz with keyboard and vocals. Let&rsquo\;s celebrate summer\, our community\, and our fondness for talented artists right in our own backyard! A suggested donation of $10 per person would be appreciated. This event will be held in the community room in the event of rain. Parking is available on Maine Street or at the Village Fire Station on North Street. The Louis T. Graves Memorial Public Library is located at 18 Maine Street\, Kennebunkport. For further information\, please call 207-967-2778 or visit www.graveslibrary.org.</span>
LOCATION:The Louis T. Graves Memorial Public Library is located at 18 Maine Street\, Kennebunkport. For further information\, please call 207-967-2778 or visit www.graveslibrary.org.
UID:e.1923.37532
SEQUENCE:3
DTSTAMP:20260421T074455Z
URL:https://chamber.gokennebunks.com/events/details/mark-gunter-janet-wentworth-mary-kennedy-concert-37532
END:VEVENT

END:VCALENDAR
