BEGIN:VCALENDAR
VERSION:2.0
PRODID:-//ChamberMaster//Event Calendar 2.0//EN
METHOD:PUBLISH
X-PUBLISHED-TTL:P3D
REFRESH-INTERVAL:P3D
CALSCALE:GREGORIAN
BEGIN:VEVENT
DTSTART:20240828T220000Z
DTEND:20240828T230000Z
X-MICROSOFT-CDO-ALLDAYEVENT:FALSE
SUMMARY:MARK GUNTER & JANET WENTWORTH CONCERT
DESCRIPTION:Thursday\, August 28 at 6 PM. Mark Gunter & Janet Wentworth Concert. Join us for some good vibes and live music in the garden at Graves Library Summer Music Series. Bring your friends\, bring your chair\, sit back\, tap your feet\, and listen to some local beat. Mark and Janet are part of a variety of bands in the area playing country blues and jazz with keyboard and vocals. Let's celebrate summer\, our community\, and our fondness for talented artists right in our own backyard! A suggested donation of $10 per person would be appreciated. This event will be held in the community room if it rains. Parking is available on Maine Street or at Consolidated School. The Louis T. Graves Memorial Public Library is located at 18 Maine Street\, Kennebunkport. For further information\, please call 967-2778 or visit our website at www.graveslibrary.org.
X-ALT-DESC;FMTTYPE=text/html:<span style="font-family:arial\,sans-serif">Thursday\, August 28 at 6 PM. <strong>Mark Gunter &amp\; Janet Wentworth Concert</strong>. Join us for some good vibes and live music in the garden at Graves Library Summer Music Series. Bring your friends\, bring your chair\, sit back\, tap your feet\, and listen to some local beat. Mark and Janet are part of a variety of bands in the area playing country blues and jazz with keyboard and vocals. Let&rsquo\;s celebrate summer\, our community\, and our fondness for talented artists right in our own backyard! A suggested donation of $10 per person would be appreciated. This event will be held in the community room if it rains. Parking is available on Maine Street or at Consolidated School. </span><span style="font-family:arial\,sans-serif">The Louis T. Graves Memorial Public Library is located at 18 Maine Street\, Kennebunkport. For further information\, please call 967-2778 or visit our website at </span><a href="http://www.graveslibrary.org/"><span style="color:windowtext"><span style="font-family:arial\,sans-serif">www.graveslibrary.org</span></span></a><span style="font-family:arial\,sans-serif">.</span>
LOCATION:The Louis T. Graves Memorial Public Library is located at 18 Maine Street\, Kennebunkport. For further information\, please call 967-2778 or visit our website at www.graveslibrary.org.
UID:e.1923.25417
SEQUENCE:3
DTSTAMP:20260421T124310Z
URL:https://chamber.gokennebunks.com/events/details/mark-gunter-janet-wentworth-concert-25417
END:VEVENT

END:VCALENDAR
