BEGIN:VCALENDAR
VERSION:2.0
PRODID:-//ChamberMaster//Event Calendar 2.0//EN
METHOD:PUBLISH
X-PUBLISHED-TTL:P3D
REFRESH-INTERVAL:P3D
CALSCALE:GREGORIAN
BEGIN:VEVENT
DTSTART:20260520T220000Z
DTEND:20260521T000000Z
X-MICROSOFT-CDO-ALLDAYEVENT:FALSE
SUMMARY:Margarita Glass Painting @Pedros Mexican Restaurant
DESCRIPTION:Get ready for a fun and festive night out at Pedro's Mexican Restaurant! Join us for a Margarita Glass Painting event where you'll design and paint your own custom glass perfect for summer sipping.\n\nWe'll be set up on the patio (weather permitting)\, so you can soak in the atmosphere while getting creative. No experience is needed everything is prepped to be easy\, relaxing\, and fun. All materials are included\, and you'll leave with a one-of-a-kind glass to enjoy at home.\n\nYour ticket includes one margarita glass\, but we'll have additional glasses available for purchase if you'd like to paint more than one. Prefer something different? We'll also have a limited number of wine glasses available to paint instead.\n\nGrab your friends\, enjoy some great food and drinks\, and some creative time.\n\nFood and beverage not included in the ticket price.\n\nIt is suggested that you get your tickets early as this class will sell out fast and there is a limited amount of tickets available.
X-ALT-DESC;FMTTYPE=text/html:<p>Get ready for a fun and festive night out at Pedro&#39\;s Mexican Restaurant! Join us for a Margarita Glass Painting event where you&rsquo\;ll design and paint your own custom glass&mdash\;perfect for summer sipping.</p>\n\n<p>We&rsquo\;ll be set up on the patio (weather permitting)\, so you can soak in the atmosphere while getting creative. No experience is needed&mdash\;everything is prepped to be easy\, relaxing\, and fun. All materials are included\, and you&rsquo\;ll leave with a one-of-a-kind glass to enjoy at home.</p>\n\n<p>Your ticket includes one margarita glass\, but we&rsquo\;ll have additional glasses available for purchase if you&rsquo\;d like to paint more than one. Prefer something different? We&rsquo\;ll also have a limited number of wine glasses available to paint instead.</p>\n\n<p>Grab your friends\, enjoy some great food and drinks\, and some creative time.</p>\n\n<p><em><strong>Food and beverage not included in the ticket price.</strong></em></p>\n\n<p><em><strong>It is suggested that you get your tickets early as this class will sell out fast and there is a limited amount of tickets available.</strong></em></p>\n
LOCATION:Pedro's Mexican Restaurant 181 Port Rd Kennebunk\, ME
UID:e.1923.39037
SEQUENCE:3
DTSTAMP:20260421T231707Z
URL:https://chamber.gokennebunks.com/events/details/margarita-glass-painting-pedros-5-20-26-39037
END:VEVENT

END:VCALENDAR
