BEGIN:VCALENDAR
VERSION:2.0
PRODID:-//ChamberMaster//Event Calendar 2.0//EN
METHOD:PUBLISH
X-PUBLISHED-TTL:P3D
REFRESH-INTERVAL:P3D
CALSCALE:GREGORIAN
BEGIN:VEVENT
DTSTART:20241021T220000Z
DTEND:20241022T000000Z
X-MICROSOFT-CDO-ALLDAYEVENT:FALSE
SUMMARY:Mandala Mondays: Relax and destress through creativity
DESCRIPTION:A mandala is a circular design with a central point that is thought to represent the wholeness of the person who creates it. In nature\, we are attracted to mandalas. Flowers and seashells\, for example\, can beautify our lives and bring a sense of peace. We often experience feelings of relaxation when coloring pre-designed mandalas so popular in coloring books. The meditative aspects of creating and coloring our own mandalas have been shown to reduce anxiety and stress and promote feelings of well being through self discovery. This tends to have a positive impact on both physical and mental health.\n\n\n\nIn this class we will explore the significance of mandalas as we create our own. We'll discover their meditative properties as we relax\, de-stress and learn about ourselves through the colors\, symbols\, and patterns we choose. The creation of mandalas provides a window to ourselves that is not only revealing\, but enjoyable. In this class\, we will focus on the process of self-discovery through the meaningful communication between our inner and outer worlds.\n\n\n\nAll materials provided.
X-ALT-DESC;FMTTYPE=text/html:<span style="color:rgb(68\, 68\, 68)\; font-family:helvetica neue\,helvetica\,arial\,sans-serif\; font-size:16px">A mandala is a circular design with a central point that is thought to represent the wholeness of the person who creates it. In nature\, we are attracted to mandalas. Flowers and seashells\, for example\, can beautify our lives and bring a sense of peace. We often experience feelings of relaxation when coloring pre-designed mandalas so popular in coloring books. The meditative aspects of creating and coloring our own mandalas have been shown to reduce anxiety and stress and promote feelings of well being through self discovery. This tends to have a positive impact on both physical and mental health.<br />\n<br />\nIn this class we will explore the significance of mandalas as we create our own. We&rsquo\;ll discover their meditative properties as we relax\, de-stress and learn about ourselves through the colors\, symbols\, and patterns we choose. The creation of mandalas provides a window to ourselves that is not only revealing\, but enjoyable. In this class\, we will focus on the process of self-discovery through the meaningful communication between our inner and outer worlds.<br />\n<br />\nAll materials provided.</span>
LOCATION:River Tree Arts 35 Western Ave.\, Kennebunk\, 04043
UID:e.1923.30989
SEQUENCE:3
DTSTAMP:20260421T100049Z
URL:https://chamber.gokennebunks.com/events/details/mandala-mondays-relax-and-destress-through-creativity-30989
END:VEVENT

END:VCALENDAR
