BEGIN:VCALENDAR
VERSION:2.0
PRODID:-//ChamberMaster//Event Calendar 2.0//EN
METHOD:PUBLISH
X-PUBLISHED-TTL:P3D
REFRESH-INTERVAL:P3D
CALSCALE:GREGORIAN
BEGIN:VEVENT
DTSTART:20231207T230000Z
DTEND:20231208T010000Z
X-MICROSOFT-CDO-ALLDAYEVENT:FALSE
SUMMARY:Mandala Dot Art Ornaments
DESCRIPTION:Unleash your inner creativity and join our Mandala Dot Art Ornament Class\, where you will learn the mesmerizing art of dotting on birch slices to create beautiful\, personalized ornaments. In this class\, each student will have the opportunity to craft two unique and eye-catching mandala dot art ornaments\, perfect for decorating your home or giving as thoughtful gifts.\n\nThis class will be led by Instructor: Rayanne Coombs
X-ALT-DESC;FMTTYPE=text/html:<p style="margin-left:0px\; margin-right:0px">Unleash your inner creativity and join our Mandala Dot Art Ornament Class\, where you will learn the mesmerizing art of dotting on birch slices to create beautiful\, personalized ornaments. In this class\, each student will have the opportunity to craft two unique and eye-catching mandala dot art ornaments\, perfect for decorating your home or giving as thoughtful gifts.</p>\n\n<p style="margin-left:0px\; margin-right:0px">This class will be led by Instructor: Rayanne Coombs</p>\n
LOCATION:The Creative Soul 2 Christensen Lane Kennebunk\, ME 04043
UID:e.1923.23081
SEQUENCE:3
DTSTAMP:20260421T220633Z
URL:https://chamber.gokennebunks.com/events/details/mandala-dot-art-ornaments-23081
END:VEVENT

END:VCALENDAR
