BEGIN:VCALENDAR
VERSION:2.0
PRODID:-//ChamberMaster//Event Calendar 2.0//EN
METHOD:PUBLISH
X-PUBLISHED-TTL:P3D
REFRESH-INTERVAL:P3D
CALSCALE:GREGORIAN
BEGIN:VEVENT
DTSTART:20180519T170000Z
DTEND:20180519T190000Z
X-MICROSOFT-CDO-ALLDAYEVENT:FALSE
SUMMARY:Make The Perfect Cocktail: A Cocktail Class
DESCRIPTION:Ever wonder how our bartenders create their newest concoctions? Do you know the difference between a tincture and a bitter? When to shake\, and when to stir? From proper barware to proper technique\, in two short hours\, we'll teach you everything you need to know to impress your guests. Grab a friend or two and join our next small group class. You'll get behind the bar\, have a bunch of fun\, and meet some new friends. And yes\, you get to sample your own work. We'll have snacks available\, too.
X-ALT-DESC;FMTTYPE=text/html:Ever wonder how our bartenders create their newest concoctions? Do you know the difference between a tincture and a bitter? When to shake\, and when to stir? From proper barware to proper technique\, in two short hours\, we&#39\;ll teach you everything you need to know to impress your guests. Grab a friend or two and join our next small group class. You&#39\;ll get behind the bar\, have a bunch of fun\, and meet some new friends. And yes\, you get to sample your own work. We&#39\;ll have snacks available\, too.
LOCATION:Old Vines Wine Bar
UID:e.1923.8700
SEQUENCE:3
DTSTAMP:20260425T155100Z
URL:https://chamber.gokennebunks.com/events/details/make-the-perfect-cocktail-a-cocktail-class-05-19-2018-8700
END:VEVENT

END:VCALENDAR
