BEGIN:VCALENDAR
VERSION:2.0
PRODID:-//ChamberMaster//Event Calendar 2.0//EN
METHOD:PUBLISH
X-PUBLISHED-TTL:P3D
REFRESH-INTERVAL:P3D
CALSCALE:GREGORIAN
BEGIN:VEVENT
DTSTART:20240917T180000Z
DTEND:20240917T190000Z
X-MICROSOFT-CDO-ALLDAYEVENT:FALSE
SUMMARY:Maine's Paid Family and Medical Leave Webinar
DESCRIPTION:Maine is implementing a new program that will impact all business and their employees in 2025. In this webinar\, we will be joined by the Director and Deputy Director of the state PFML program and dive into the details of the program and what your business needs to do to remain compliant.
X-ALT-DESC;FMTTYPE=text/html:Maine is implementing a new program that will impact all business and their employees in 2025. In this webinar\, we will be joined by the Director and Deputy Director of the state PFML program and dive into the details of the program and what your business needs to do to remain compliant.
LOCATION:Zoom
UID:e.1923.29821
SEQUENCE:3
DTSTAMP:20260421T100219Z
URL:https://chamber.gokennebunks.com/events/details/maine-s-paid-family-and-medical-leave-webinar-29821
END:VEVENT

END:VCALENDAR
