BEGIN:VCALENDAR
VERSION:2.0
PRODID:-//ChamberMaster//Event Calendar 2.0//EN
METHOD:PUBLISH
X-PUBLISHED-TTL:P3D
REFRESH-INTERVAL:P3D
CALSCALE:GREGORIAN
BEGIN:VEVENT
DTSTART:20230321T180000Z
DTEND:20230321T190000Z
X-MICROSOFT-CDO-ALLDAYEVENT:FALSE
SUMMARY:Maine Retirement Mandate Webinar
DESCRIPTION:The Maine State Retirement Board has delayed the start of the Maine State Retirement Program. In this webinar\, we will be joined by Beth Bordowitz\, the Executive Director of the Maine Retirement Savings Board\, to review Maine's Retirement Savings Program that begins in 2023. We will cover: -What the program is. -Who must comply. -Deadlines for compliance. -How to stay in compliance. -Retirement program options.
X-ALT-DESC;FMTTYPE=text/html:The Maine State Retirement Board has delayed the start of the Maine State Retirement Program. In this webinar\, we will be joined by Beth Bordowitz\, the Executive Director of the Maine Retirement Savings Board\, to review Maine&#39\;s Retirement Savings Program that begins in 2023. We will cover: -What the program is. -Who must comply. -Deadlines for compliance. -How to stay in compliance. -Retirement program options.
LOCATION:Online - Zoom
UID:e.1923.18446
SEQUENCE:3
DTSTAMP:20260421T110139Z
URL:https://chamber.gokennebunks.com/events/details/maine-retirement-mandate-webinar-18446
END:VEVENT

END:VCALENDAR
