BEGIN:VCALENDAR
VERSION:2.0
PRODID:-//ChamberMaster//Event Calendar 2.0//EN
METHOD:PUBLISH
X-PUBLISHED-TTL:P3D
REFRESH-INTERVAL:P3D
CALSCALE:GREGORIAN
BEGIN:VEVENT
DTSTART:20240412T040000Z
DTEND:20240413T040000Z
X-MICROSOFT-CDO-ALLDAYEVENT:FALSE
SUMMARY:Maine Melodies: A Broadway Weekend at Cape Arundel Inn & Resort
DESCRIPTION:Maine Melodies\, A Broadway Weekend offers a perfect combination of Broadway brilliance and seaside appeal. The magic starts as soon as the doors open for your dinner and entertainment\, ushering you into an evening of dramatic beauty. Lindsay Heather Pearce and Nicholas James Connell\, acclaimed Broadway singers\, provide a riveting performance that combines seductive tunes and exciting stage narratives. Enjoy the serenades and waterfront vistas while enjoying in Ocean's delectable food for the evening\, creating a setting where the romance of Broadway meets the peacefulness of Maine's picturesque coast.\n\n\n\nJoin us for the full weekend Friday\, April 12 and Saturday\, April 13\; or just for dinner on Saturday\, April 13th.\n\n\n\nFMI: https://www.capearundelinn.com/maine-melodies
X-ALT-DESC;FMTTYPE=text/html:<p>Maine Melodies\, A Broadway Weekend&nbsp\;offers a perfect combination of Broadway brilliance and seaside appeal. The magic starts as soon as the doors open for your dinner and entertainment\, ushering you into an evening of dramatic beauty.&nbsp\;<a href="https://www.instagram.com/lindsayheatherpearce/" rel="noreferrer noopener" target="_blank" title="https://www.instagram.com/lindsayheatherpearce/">Lindsay Heather Pearce</a>&nbsp\;and&nbsp\;<a href="https://www.instagram.com/nicholasconnell/" rel="noreferrer noopener" target="_blank" title="https://www.instagram.com/nicholasconnell/">Nicholas James Connell</a>\, acclaimed Broadway singers\, provide a riveting performance that combines seductive tunes and exciting stage narratives. Enjoy the serenades and waterfront vistas while enjoying in Ocean&#39\;s delectable food for the evening\, creating a setting where the romance of Broadway meets the peacefulness of Maine&#39\;s picturesque coast.<br />\n<br />\nJoin us for the full weekend Friday\, April 12 and Saturday\, April 13\; or just for dinner on Saturday\, April 13th.<br />\n<br />\nFMI:&nbsp\;https://www.capearundelinn.com/maine-melodies</p>\n
LOCATION:Cape Arundel Inn & Resort 208 Ocean Avenue Kennebunkport\, Maine 04046
UID:e.1923.24600
SEQUENCE:3
DTSTAMP:20260421T164335Z
URL:https://chamber.gokennebunks.com/events/details/maine-melodies-a-broadway-weekend-at-cape-arundel-inn-resort-24600
END:VEVENT

END:VCALENDAR
