BEGIN:VCALENDAR
VERSION:2.0
PRODID:-//ChamberMaster//Event Calendar 2.0//EN
METHOD:PUBLISH
X-PUBLISHED-TTL:P3D
REFRESH-INTERVAL:P3D
CALSCALE:GREGORIAN
BEGIN:VEVENT
DTSTART:20231014T180000Z
DTEND:20231014T193000Z
X-MICROSOFT-CDO-ALLDAYEVENT:FALSE
SUMMARY:Maine-ly Authors & Irene M. Drago
DESCRIPTION:In partnership with Fine Print Booksellers\, embrace books of Maine and join us for conversations with their authors. Guests will be transported into the creative minds of these literary artisans as they peel back the layers of their writing process. From the initial spark of inspiration to the challenges faced during the storytelling journey\, every author's narrative is a treasure trove of insight and discovery. Bring your own copy or purchase one at the inn\, as each author will be available for personalized keepsake signings after the event! We'll provide complimentary refreshments of tea\, coffee\, and water for guests. Cape Arundel Inn & Resort's restaurant\, Ocean\, will also be offering an array of cocktails and snacks available for purchase. Or\, make a night of it with a reservation post-literary series and dine for the evening\, overlooking the 180-degree views of the Atlantic Ocean. With a limited space to encourage meaningful connections\, this cozy gathering promises an unforgettable afternoon of literary delights\, personal interactions with authors\, and a celebration of the captivating the spirit of Maine's coastline.
X-ALT-DESC;FMTTYPE=text/html:In partnership with Fine Print Booksellers\, embrace books of Maine and join us for conversations with their authors. Guests will be transported into the creative minds of these literary artisans as they peel back the layers of their writing process. From the initial spark of inspiration to the challenges faced during the storytelling journey\, every author&#39\;s narrative is a treasure trove of insight and discovery. Bring your own copy or purchase one at the inn\, as each author will be available for personalized keepsake signings after the event! We&#39\;ll provide complimentary refreshments of tea\, coffee\, and water for guests. Cape Arundel Inn &amp\; Resort&#39\;s restaurant\, Ocean\, will also be offering an array of cocktails and snacks available for purchase. Or\, make a night of it with a reservation post-literary series and dine for the evening\, overlooking the 180-degree views of the Atlantic Ocean. With a limited space to encourage meaningful connections\, this cozy gathering promises an unforgettable afternoon of literary delights\, personal interactions with authors\, and a celebration of the captivating the spirit of Maine&#39\;s coastline.
LOCATION:Cape Arundel Inn & Resort 208 Ocean Avenue Kennebunkport\, ME 04046
UID:e.1923.22394
SEQUENCE:3
DTSTAMP:20260422T021343Z
URL:https://chamber.gokennebunks.com/events/details/maine-ly-authors-irene-m-drago-22394
END:VEVENT

END:VCALENDAR
