BEGIN:VCALENDAR
VERSION:2.0
PRODID:-//ChamberMaster//Event Calendar 2.0//EN
METHOD:PUBLISH
X-PUBLISHED-TTL:P3D
REFRESH-INTERVAL:P3D
CALSCALE:GREGORIAN
BEGIN:VEVENT
DTSTART;VALUE=DATE:20230801
DTEND;VALUE=DATE:20230901
TRANSP:TRANSPARENT
X-MICROSOFT-CDO-ALLDAYEVENT:TRUE
SUMMARY:Maine Day Ventures Kennebunkport Walking Tours in August
DESCRIPTION:Please join us for our culinary\, history\, garden\, ghost and doggy tours in Kennebunkport!
X-ALT-DESC;FMTTYPE=text/html:Please join us for our culinary\, history\, garden\, ghost and doggy tours in Kennebunkport!
LOCATION:Meeting point: 2 Dock Square\, Kennebunkport\, ME 04046
UID:e.1923.22416
SEQUENCE:3
DTSTAMP:20260422T034156Z
URL:https://chamber.gokennebunks.com/events/details/maine-day-ventures-kennebunkport-walking-tours-in-august-22416
END:VEVENT

END:VCALENDAR
