BEGIN:VCALENDAR
VERSION:2.0
PRODID:-//ChamberMaster//Event Calendar 2.0//EN
METHOD:PUBLISH
X-PUBLISHED-TTL:P3D
REFRESH-INTERVAL:P3D
CALSCALE:GREGORIAN
BEGIN:VEVENT
DTSTART:20250503T133000Z
DTEND:20250503T203000Z
X-MICROSOFT-CDO-ALLDAYEVENT:FALSE
SUMMARY:Maine Day at Seashore Trolley Museum
DESCRIPTION:Come out to the Seashore Trolley Museum on Saturday\, May 3 for our 2025 Opening Day and help us kick off the season! Guests with a Maine driver's license get in for $2.07\, and all guests 16 and under get in free. The pump car will also be operating for guests to enjoy.\n\n \n\nAll guests will get a free ticket to enter a door prize raffle for a chance to win prizes donated by the local community. It's going to be a GREAT day you won't want to miss it!
X-ALT-DESC;FMTTYPE=text/html:<div>Come out to the Seashore Trolley Museum on Saturday\, May 3 for our 2025 Opening Day and help us kick off the season! Guests with a Maine driver&rsquo\;s license get in for $2.07\, and all guests 16 and under get in free. The pump car will also be operating for guests to enjoy.</div>\n\n<div>&nbsp\;</div>\n\n<div>All guests will get a free ticket to enter a door prize raffle for a chance to win prizes donated by the local community. It&rsquo\;s going to be a GREAT day&ndash\;you won&rsquo\;t want to miss it!</div>\n
LOCATION:Seashore Trolley Museum 195 Log Cabin Road Kennebunkport\, ME 04046
UID:e.1923.33944
SEQUENCE:3
DTSTAMP:20260421T045919Z
URL:https://chamber.gokennebunks.com/events/details/maine-day-at-seashore-trolley-museum-33944
END:VEVENT

END:VCALENDAR
