BEGIN:VCALENDAR
VERSION:2.0
PRODID:-//ChamberMaster//Event Calendar 2.0//EN
METHOD:PUBLISH
X-PUBLISHED-TTL:P3D
REFRESH-INTERVAL:P3D
CALSCALE:GREGORIAN
BEGIN:VEVENT
DTSTART:20180830T223000Z
DTEND:20180831T000000Z
X-MICROSOFT-CDO-ALLDAYEVENT:FALSE
SUMMARY:Maine Celebration of Reading
DESCRIPTION:Join the Barbara Bush Foundation for Family Literacy for the 2018 Maine Celebration of Reading. This gathering of bestselling authors\, community leaders\, Bush family members\, and literacy advocates will highlight the life-changing power of literacy and raise funds to support the programs of the Barbara Bush Foundation. This year's special event will celebrate the legacy of Barbara Bush\, and will feature celebrity guest authors Christopher Buckley\, Brad Meltzer\, Cokie Roberts and Ellie LeBlond Sosa.
X-ALT-DESC;FMTTYPE=text/html:Join the Barbara Bush Foundation for Family Literacy for the 2018 Maine Celebration of Reading. This gathering of bestselling authors\, community leaders\, Bush family members\, and literacy advocates will highlight the life-changing power of literacy and raise funds to support the programs of the Barbara Bush Foundation. This year&rsquo\;s special event will celebrate the legacy of Barbara Bush\, and will feature celebrity guest authors Christopher Buckley\, Brad Meltzer\, Cokie Roberts and Ellie LeBlond Sosa.
LOCATION:Vinegar Hill Music Theatre\, 53 Old Post Road\, Arundel\, Maine 04046
UID:e.1923.9952
SEQUENCE:3
DTSTAMP:20260425T115919Z
URL:https://chamber.gokennebunks.com/events/details/maine-celebration-of-reading-08-30-2018-9952
END:VEVENT

END:VCALENDAR
