BEGIN:VCALENDAR
VERSION:2.0
PRODID:-//ChamberMaster//Event Calendar 2.0//EN
METHOD:PUBLISH
X-PUBLISHED-TTL:P3D
REFRESH-INTERVAL:P3D
CALSCALE:GREGORIAN
BEGIN:VEVENT
DTSTART:20190914T120000Z
DTEND:20190914T160000Z
X-MICROSOFT-CDO-ALLDAYEVENT:FALSE
SUMMARY:Maine Beaches Walk to End Alzheimer's - York Beach
DESCRIPTION:Held annually in more than 600 communities nationwide\, the Alzheimer's Association Walk to End Alzheimer?s® is the world?s largest event to raise awareness and funds for Alzheimer?s care\, support and research. This inspiring event calls on participants of all ages and abilities to reclaim the future for millions!\n\nWhen you participate in Walk\, your fundraising dollars fuel our mission\, and your participation in the event helps to change the level of Alzheimer?s awareness in your community. The Alzheimer?s Association provides free\, easy-to-use tools and staff support to help participants reach their fundraising goal. While there is no fee to register\, we encourage participants to fundraise in order to contribute to the cause and raise awareness.\n\nTake the first step by finding a Walk near you. Once you register\, you will have access to a wide range of tools and support through your customized Participant Center. Join us and be inspired by all the footsteps that fall into place behind yours. Together\, we can end Alzheimer?s!\n\nRegistration at 8 am \nCeremony at 9 am \nWalk at 9:3 0am\n\nContact: dwyman@alz.org | 207.772.0115
X-ALT-DESC;FMTTYPE=text/html:Held annually in more than 600 communities nationwide\, the Alzheimer's Association Walk to End Alzheimer?s® is the world?s largest event to raise awareness and funds for Alzheimer?s care\, support and research. This inspiring event calls on participants of all ages and abilities to reclaim the future for millions!\n\nWhen you participate in Walk\, your fundraising dollars fuel our mission\, and your participation in the event helps to change the level of Alzheimer?s awareness in your community. The Alzheimer?s Association provides free\, easy-to-use tools and staff support to help participants reach their fundraising goal. While there is no fee to register\, we encourage participants to fundraise in order to contribute to the cause and raise awareness.\n\nTake the first step by finding a Walk near you. Once you register\, you will have access to a wide range of tools and support through your customized Participant Center. Join us and be inspired by all the footsteps that fall into place behind yours. Together\, we can end Alzheimer?s!\n\nRegistration at 8 am \nCeremony at 9 am \nWalk at 9:3 0am\n\nContact: dwyman@alz.org | 207.772.0115
LOCATION:York Beach Ball Field Railroad Avenue York Beach\, ME 03910
UID:e.1923.13463
SEQUENCE:3
DTSTAMP:20260424T164459Z
URL:https://chamber.gokennebunks.com/events/details/maine-beaches-walk-to-end-alzheimer-s-york-beach-13463
END:VEVENT

END:VCALENDAR
