BEGIN:VCALENDAR
VERSION:2.0
PRODID:-//ChamberMaster//Event Calendar 2.0//EN
METHOD:PUBLISH
X-PUBLISHED-TTL:P3D
REFRESH-INTERVAL:P3D
CALSCALE:GREGORIAN
BEGIN:VEVENT
DTSTART:20250327T150000Z
DTEND:20250327T213000Z
X-MICROSOFT-CDO-ALLDAYEVENT:FALSE
SUMMARY:MAINE B2B TRADESHOW
DESCRIPTION:Mainely Experiences to Showcase Exclusive Luxury Picnic\, Premier Concierge Services and Children's Specialty Sleepovers at Maine B2B Trade Show in Auburn\n\n[Auburn\, ME]   Mainely Experiences is excited to announce their participation in the prestigious Maine B2B Trade Show on Thursday\, March 27\, 2025\, at the Norway Savings Bank Arena in Auburn\, Maine. This premier business-to-business event gathers entrepreneurs\, professionals\, and industry leaders for networking\, collaboration\, and exploration of new opportunities.\n\nAs an exhibitor\, Mainely Experiences will showcase their signature luxury picnic offerings\, personalized tourism experiences\, bespoke event planning services\, and delightful children's celebration packages\, bringing the essence of Maine's beauty and charm directly to visitors.\n\nMainely Experiences\, founded by Deborah Roberts\, specializes in creating exceptional\, curated picnic celebrations and custom-designed adventures across coastal Maine. From intimate engagements and romantic stargazing picnics to interactive family game nights and sophisticated group celebrations\, each picnic experience includes elegantly styled boho tables\, plush pillows\, personalized d cor\, luxurious place settings\, Bluetooth speakers\, and thoughtful amenities. Optional enhancements such as luxury teepees\, stylish rattan chairs\, fringe beach umbrellas\, and entertainment packages further elevate every gathering.\n\nAdditionally\, Mainely Experiences offers uniquely tailored children's birthday picnic packages\, including themed Signature Sleepovers and Slumber-Unders\, providing imaginative and interactive celebrations for kids ages 5 to 16. These packages feature playful d cor\, engaging activities\, and creative themes designed to create unforgettable birthday memories.\n\nPremier concierge services round out their offerings\, seamlessly coordinating sightseeing tours\, historical adventures\, foodie excursions\, and step-on guide services for motorcoach groups\, ensuring every visitor enjoys an unforgettable Maine experience.\n\n"The Maine B2B Trade Show provides a wonderful platform for Mainely Experiences to highlight our passion for crafting memorable\, personalized celebrations and experiences that truly capture Maine's unique charm\," said Deborah Roberts\, Founder & Owner of Mainely Experiences.\n\nEvent Details:\n\nDate: Thursday\, March 27\, 2025\n\nLocation: Norway Savings Bank Arena\, Auburn\, ME\n\nTime: 11:00 AM - 5:30 PM (Cocktail Hour at 4:30 PM)\n\nAdmission: Pre-registration is free\; $5 at the door\n\nFor event registration\, visit LAMetroCC.com/MaineB2B.\n\nMedia Contact:\n\nDeborah Roberts\n\nFounder & Owner\, Mainely Experiences\n\n207-910-7230\n\ninfo@mainelyexperiences.com\n\nwww.mainelyexperiences.com\n\nAbout Mainely Experiences:\n\nMainely Experiences is a concierge tourism company dedicated to creating personalized luxury picnics\, customized events\, children's birthday celebrations\, signature sleepover and slumber-under events\, and immersive adventures throughout Maine. \n\nEach tailored experience connects visitors and locals with the breathtaking landscapes\, rich history\, and distinctive culture of coastal Maine. For more information\, visit www.mainelyexperiences.com.
X-ALT-DESC;FMTTYPE=text/html:<p><strong>Mainely Experiences to Showcase Exclusive Luxury Picnic\, Premier Concierge Services and Children&rsquo\;s Specialty Sleepovers at Maine B2B Trade Show in Auburn</strong></p>\n\n<p><strong>[Auburn\, ME] &ndash\;</strong> Mainely Experiences is excited to announce their participation in the prestigious <strong>Maine B2B Trade Show</strong> on <strong>Thursday\, March 27\, 2025</strong>\, at the Norway Savings Bank Arena in Auburn\, Maine. This premier business-to-business event gathers entrepreneurs\, professionals\, and industry leaders for networking\, collaboration\, and exploration of new opportunities.</p>\n\n<p>As an exhibitor\, <strong>Mainely Experiences</strong> will showcase their <strong>signature luxury picnic</strong> offerings\, personalized tourism experiences\, bespoke event planning services\, and delightful children&#39\;s celebration packages\, bringing the essence of Maine&rsquo\;s beauty and charm directly to visitors.</p>\n\n<p><strong>Mainely Experiences</strong>\, founded by <strong>Deborah Roberts</strong>\, specializes in creating exceptional\, curated picnic celebrations and custom-designed adventures across coastal Maine. From <strong>intimate engagements</strong> and <strong>romantic stargazing picnics</strong> to <strong>interactive family game nights</strong> and <strong>sophisticated group celebrations</strong>\, each picnic experience includes elegantly styled boho tables\, plush pillows\, personalized d&eacute\;cor\, luxurious place settings\, Bluetooth speakers\, and thoughtful amenities. Optional enhancements such as luxury teepees\, stylish rattan chairs\, fringe beach umbrellas\, and entertainment packages further elevate every gathering.</p>\n\n<p>Additionally\, <strong>Mainely Experiences</strong> offers uniquely tailored <strong>children&rsquo\;s birthday picnic </strong>packages\, including themed <strong>Signature Sleepovers and Slumber-Unders\,</strong> providing imaginative and interactive celebrations for kids ages 5 to 16. These packages feature playful d&eacute\;cor\, engaging activities\, and creative themes designed to create unforgettable birthday memories.</p>\n\n<p><strong>Premier concierge services</strong> round out their offerings\, seamlessly coordinating <strong>sightseeing tours\, historical adventures\, foodie excursions</strong>\, and <strong>step-on guide services</strong> for motorcoach groups\, ensuring every visitor enjoys an unforgettable Maine experience.</p>\n\n<p>&ldquo\;The <strong>Maine B2B Trade Show</strong> provides a wonderful platform for Mainely Experiences to highlight our passion for crafting memorable\, personalized celebrations and experiences that truly capture Maine&rsquo\;s unique charm\,&rdquo\; said Deborah Roberts\, Founder &amp\; Owner of Mainely Experiences.</p>\n\n<p><strong>Event Details:</strong><br />\n<strong>Date:</strong> Thursday\, March 27\, 2025<br />\n<strong>Location:</strong> Norway Savings Bank Arena\, Auburn\, ME<br />\n<strong>Time:</strong> 11:00 AM - 5:30 PM (Cocktail Hour at 4:30 PM)<br />\n<strong>Admission:</strong> Pre-registration is free\; $5 at the door</p>\n\n<p>For event registration\, visit <a href="http://lametrocc.com/MaineB2B"><span style="color:rgb(0\, 0\, 233)">LAMetroCC.com/MaineB2B</span></a>.</p>\n\n<p><strong>Media Contact:</strong><br />\nDeborah Roberts<br />\nFounder &amp\; Owner\, Mainely Experiences<br />\n207-910-7230<br />\ninfo@mainelyexperiences.com<br />\n<a href="http://www.mainelyexperiences.com/"><span style="color:rgb(0\, 0\, 233)">www.mainelyexperiences.com</span></a></p>\n\n<p><strong>About Mainely Experiences:</strong><br />\n<strong>Mainely Experiences</strong> is a concierge tourism company dedicated to creating personalized luxury picnics\, customized events\, children&#39\;s birthday celebrations\, signature sleepover and slumber-under events\, and immersive adventures throughout Maine.&nbsp\;</p>\n\n<p>Each tailored experience connects visitors and locals with the breathtaking landscapes\, rich history\, and distinctive culture of coastal Maine. For more information\, visit <a href="http://www.mainelyexperiences.com/"><span style="color:rgb(0\, 0\, 233)">www.mainelyexperiences.com</span></a>.</p>\n
LOCATION:Norway Savings Bank Arena\, Auburn\, ME 985 Turner Street\, Auburn
UID:e.1923.33325
SEQUENCE:3
DTSTAMP:20260420T213129Z
URL:https://chamber.gokennebunks.com/events/details/maine-b2b-tradeshow-33325
END:VEVENT

END:VCALENDAR
