BEGIN:VCALENDAR
VERSION:2.0
PRODID:-//ChamberMaster//Event Calendar 2.0//EN
METHOD:PUBLISH
X-PUBLISHED-TTL:P3D
REFRESH-INTERVAL:P3D
CALSCALE:GREGORIAN
BEGIN:VEVENT
DTSTART:20231021T150000Z
DTEND:20231021T190000Z
X-MICROSOFT-CDO-ALLDAYEVENT:FALSE
SUMMARY:Maine Autumn Fest
DESCRIPTION:J?oin us for the very first Maine Autumn Festival and experience the bounty of land and sea alongside the regions finest oyster purveyors\, farmers\, and artisans! Immerse yourself in a classic New England fall foliage with cozy cider or local craft beer\, sweet treats\, and live music. Plus\, peruse the wares of local craftsman and take in the beauty of Kennebunkport.
X-ALT-DESC;FMTTYPE=text/html:J?oin us for the very first Maine Autumn Festival and experience the bounty of land and sea alongside the regions finest oyster purveyors\, farmers\, and artisans! Immerse yourself in a classic New England fall foliage with cozy cider or local craft beer\, sweet treats\, and live music. Plus\, peruse the wares of local craftsman and take in the beauty of Kennebunkport.
LOCATION:TBA
UID:e.1923.22903
SEQUENCE:3
DTSTAMP:20260422T021141Z
URL:https://chamber.gokennebunks.com/events/details/maine-autumn-fest-22903
END:VEVENT

END:VCALENDAR
