BEGIN:VCALENDAR
VERSION:2.0
PRODID:-//ChamberMaster//Event Calendar 2.0//EN
METHOD:PUBLISH
X-PUBLISHED-TTL:P3D
REFRESH-INTERVAL:P3D
CALSCALE:GREGORIAN
BEGIN:VEVENT
DTSTART:20241005T180000Z
DTEND:20241005T190000Z
X-MICROSOFT-CDO-ALLDAYEVENT:FALSE
SUMMARY:MAINE AUTHOR IRENE DRAGO
DESCRIPTION:Saturday\, October 5 at 2 PM. Maine Author Irene Drago. The Patsy Bray Mahoney Lecture Series presents Maine Author Irene Drago here at the Graves Library on Saturday\, October 5\, at 2:00 pm to talk about her passion for writing and the sea. Her debut novel\, "Daughters of Long Reach"\, was a 2018 Next Generation Indie Book Awards Winner\, First Novel and led to a sequel\, "The Maine Point". More recently\, "Lavinia Wren and the Sailmakers" is a 2023 Next Generation Indie Book Awards Finalist\, Regional Fiction. Copies of Ms. Drago's books will be available for sale and signing after the discussion. Light refreshments will be provided by the Graves Library Snack Team. Parking is available along Maine Street\, the North Street Fire Station Parking Lot\, and Consolidated School (Route 9). The Louis T. Graves Memorial Public Library is located at 18 Maine Street\, Kennebunkport. For further information\, please call 967-2778 or visit our website at www.graveslibrary.org.
X-ALT-DESC;FMTTYPE=text/html:<span style="font-family:arial\,sans-serif">Saturday\, October 5 at 2 PM. <strong>Maine Author Irene Drago</strong>. The Patsy Bray Mahoney Lecture Series presents Maine Author Irene Drago here at the Graves Library on Saturday\, October 5\, at 2:00 pm to talk about her passion for writing and the sea. Her debut novel\,&nbsp\;&ldquo\;Daughters of Long Reach&rdquo\;\, was a 2018 Next Generation Indie Book Awards Winner\, First Novel and led to a sequel\, &ldquo\;The Maine Point&rdquo\;. More recently\,&nbsp\;&ldquo\;Lavinia Wren and the Sailmakers&rdquo\; is a 2023 Next Generation Indie Book Awards Finalist\, Regional Fiction. Copies of Ms. Drago&#39\;s books will be available for sale and signing after the discussion. Light refreshments will be provided by the Graves Library Snack Team.&nbsp\;Parking is available along Maine Street\, the North Street Fire Station Parking Lot\, and Consolidated School (Route 9). The Louis T. Graves Memorial Public Library is located at 18 Maine Street\, Kennebunkport. For further information\, please call 967-2778 or visit our website at </span><a href="http://www.graveslibrary.org/"><span style="font-family:arial\,sans-serif">www.graveslibrary.org</span></a><span style="font-family:arial\,sans-serif">.</span>
LOCATION:The Louis T. Graves Memorial Public Library is located at 18 Maine Street\, Kennebunkport. For further information\, please call 967-2778 or visit our website at www.graveslibrary.org.
UID:e.1923.29879
SEQUENCE:3
DTSTAMP:20260421T084715Z
URL:https://chamber.gokennebunks.com/events/details/maine-author-irene-drago-29879
END:VEVENT

END:VCALENDAR
