BEGIN:VCALENDAR
VERSION:2.0
PRODID:-//ChamberMaster//Event Calendar 2.0//EN
METHOD:PUBLISH
X-PUBLISHED-TTL:P3D
REFRESH-INTERVAL:P3D
CALSCALE:GREGORIAN
BEGIN:VEVENT
DTSTART:20180608T210000Z
DTEND:20180608T233000Z
X-MICROSOFT-CDO-ALLDAYEVENT:FALSE
SUMMARY:Maine Art Hill Block Party and Choice Art Show Preview
DESCRIPTION:Take a walk around the 'block' to view the newly constructed Studios on Maine Art Hill. Preview the Choice Art Show at The Gallery on Maine Art Hill and Shows on Maine Art Hill before the pieces go on sale Saturday morning. Art Collector Maine's Gallery at the Grand will also be joining in the fun. This will be an evening filled with amazing art work\, light bites\, libations\, live music\, and of course tons of fun! Join us for an evening full of fun\, revelry and surprise.
X-ALT-DESC;FMTTYPE=text/html:Take a walk around the &lsquo\;block&rsquo\; to view the newly constructed Studios on Maine Art Hill. Preview the Choice Art Show at The Gallery on Maine Art Hill and Shows on Maine Art Hill before the pieces go on sale Saturday morning. Art Collector Maine&rsquo\;s Gallery at the Grand will also be joining in the fun. This will be an evening filled with amazing art work\, light bites\, libations\, live music\, and of course tons of fun! Join us for an evening full of fun\, revelry and surprise.
LOCATION:Maine Art Hill
UID:e.1923.9785
SEQUENCE:3
DTSTAMP:20260425T143603Z
URL:https://chamber.gokennebunks.com/events/details/maine-art-hill-block-party-and-choice-art-show-preview-9785
END:VEVENT

END:VCALENDAR
